BEGIN:VCALENDAR
VERSION:2.0
PRODID:-//Roter Baum Berlin - ECPv6.15.20//NONSGML v1.0//EN
CALSCALE:GREGORIAN
METHOD:PUBLISH
X-ORIGINAL-URL:https://roter-baum.berlin
X-WR-CALDESC:Veranstaltungen für Roter Baum Berlin
REFRESH-INTERVAL;VALUE=DURATION:PT1H
X-Robots-Tag:noindex
X-PUBLISHED-TTL:PT1H
BEGIN:VTIMEZONE
TZID:Europe/Berlin
BEGIN:DAYLIGHT
TZOFFSETFROM:+0100
TZOFFSETTO:+0200
TZNAME:CEST
DTSTART:20240331T010000
END:DAYLIGHT
BEGIN:STANDARD
TZOFFSETFROM:+0200
TZOFFSETTO:+0100
TZNAME:CET
DTSTART:20241027T010000
END:STANDARD
BEGIN:DAYLIGHT
TZOFFSETFROM:+0100
TZOFFSETTO:+0200
TZNAME:CEST
DTSTART:20250330T010000
END:DAYLIGHT
BEGIN:STANDARD
TZOFFSETFROM:+0200
TZOFFSETTO:+0100
TZNAME:CET
DTSTART:20251026T010000
END:STANDARD
BEGIN:DAYLIGHT
TZOFFSETFROM:+0100
TZOFFSETTO:+0200
TZNAME:CEST
DTSTART:20260329T010000
END:DAYLIGHT
BEGIN:STANDARD
TZOFFSETFROM:+0200
TZOFFSETTO:+0100
TZNAME:CET
DTSTART:20261025T010000
END:STANDARD
END:VTIMEZONE
BEGIN:VEVENT
DTSTART;TZID=Europe/Berlin:20250403T160000
DTEND;TZID=Europe/Berlin:20250403T200000
DTSTAMP:20260425T182649
CREATED:20250320T132436Z
LAST-MODIFIED:20250325T130057Z
UID:1552-1743696000-1743710400@roter-baum.berlin
SUMMARY:Verschoben: Filmnachmittag zum Thema "Menschenwürde schützen"
DESCRIPTION:Es sind wieder die Internationalen Wochen gegen Rassismus in Marzahn-Hellersdorf! \nWir laden Euch zu einem Überraschungsfilm zum Thema „Menschenwürde schützen“. Anschließend eröffnen wir ein Gespräch und setzen uns kreativ mit den Filminhalten auseinander. Es folgen Infostand und Buffet mit veganen und vegetarischen Snacks. Herzlich willkommen am Donnerstag\, 27.03.2025\, 16 – 20 Uhr in die JFE Anna Landsberger\, Prötzeler Ring 13.
URL:https://roter-baum.berlin/event/filmnachmittag-zum-thema-menschenwuerde-schuetzen/
LOCATION:Anna Landsberger – internationales Jugendzentrum\, Prötzeler Ring 13\, Berlin\, 12679\, Germany
ATTACH;FMTTYPE=image/jpeg:https://roter-baum.berlin/wp-content/uploads/2025/03/Internationale-Wochen-gegen-Rassismus-Ma-He-2025-scaled.jpg
END:VEVENT
END:VCALENDAR