BEGIN:VCALENDAR
VERSION:2.0
PRODID:-//Roter Baum Berlin - ECPv6.15.20//NONSGML v1.0//EN
CALSCALE:GREGORIAN
METHOD:PUBLISH
X-WR-CALNAME:Roter Baum Berlin
X-ORIGINAL-URL:https://roter-baum.berlin
X-WR-CALDESC:Veranstaltungen für Roter Baum Berlin
REFRESH-INTERVAL;VALUE=DURATION:PT1H
X-Robots-Tag:noindex
X-PUBLISHED-TTL:PT1H
BEGIN:VTIMEZONE
TZID:Europe/Berlin
BEGIN:DAYLIGHT
TZOFFSETFROM:+0100
TZOFFSETTO:+0200
TZNAME:CEST
DTSTART:20240331T010000
END:DAYLIGHT
BEGIN:STANDARD
TZOFFSETFROM:+0200
TZOFFSETTO:+0100
TZNAME:CET
DTSTART:20241027T010000
END:STANDARD
BEGIN:DAYLIGHT
TZOFFSETFROM:+0100
TZOFFSETTO:+0200
TZNAME:CEST
DTSTART:20250330T010000
END:DAYLIGHT
BEGIN:STANDARD
TZOFFSETFROM:+0200
TZOFFSETTO:+0100
TZNAME:CET
DTSTART:20251026T010000
END:STANDARD
BEGIN:DAYLIGHT
TZOFFSETFROM:+0100
TZOFFSETTO:+0200
TZNAME:CEST
DTSTART:20260329T010000
END:DAYLIGHT
BEGIN:STANDARD
TZOFFSETFROM:+0200
TZOFFSETTO:+0100
TZNAME:CET
DTSTART:20261025T010000
END:STANDARD
END:VTIMEZONE
BEGIN:VEVENT
DTSTART;TZID=Europe/Berlin:20250417T130000
DTEND;TZID=Europe/Berlin:20250417T180000
DTSTAMP:20260425T182210
CREATED:20250407T084152Z
LAST-MODIFIED:20250407T091258Z
UID:1601-1744894800-1744912800@roter-baum.berlin
SUMMARY:Ausflug ins Futurium - 🔭 Ein Blick in die Welt von morgen
DESCRIPTION:Wir besuchen das Futurium – das Haus der Zukünfte. Entdecke spannende Ausstellungen zu Technik\, Wissenschaft und der Zukunft unseres Zusammenlebens. Mitmachen\, Staunen\, Ausprobieren! \nTreffpunkte:• 13:00 Uhr – Alte Schule Müggelheim• 13:30 Uhr – S-Bahnhof Köpenick \nRückkehr:• 17:20 Uhr – S-Bahnhof Köpenick• 18:00 Uhr – Alte Schule Müggelheim \nBitte mitbringen: Neugier\, bequeme Kleidung und etwas Verpflegung für unterwegs. \nAnmeldeformular
URL:https://roter-baum.berlin/event/ausflug-ins-futurium-%f0%9f%94%ad-ein-blick-in-die-welt-von-morgen/
LOCATION:Alte Schule Müggelheim\, Alt-Müggelheim 22\, Berlin\, Berlin\, 12559\, Germany
ATTACH;FMTTYPE=image/jpeg:https://roter-baum.berlin/wp-content/uploads/2025/04/2.jpg
END:VEVENT
END:VCALENDAR