BEGIN:VCALENDAR
VERSION:2.0
PRODID:-//Roter Baum Berlin - ECPv6.15.20//NONSGML v1.0//EN
CALSCALE:GREGORIAN
METHOD:PUBLISH
X-ORIGINAL-URL:https://roter-baum.berlin
X-WR-CALDESC:Veranstaltungen für Roter Baum Berlin
REFRESH-INTERVAL;VALUE=DURATION:PT1H
X-Robots-Tag:noindex
X-PUBLISHED-TTL:PT1H
BEGIN:VTIMEZONE
TZID:Europe/Berlin
BEGIN:DAYLIGHT
TZOFFSETFROM:+0100
TZOFFSETTO:+0200
TZNAME:CEST
DTSTART:20240331T010000
END:DAYLIGHT
BEGIN:STANDARD
TZOFFSETFROM:+0200
TZOFFSETTO:+0100
TZNAME:CET
DTSTART:20241027T010000
END:STANDARD
BEGIN:DAYLIGHT
TZOFFSETFROM:+0100
TZOFFSETTO:+0200
TZNAME:CEST
DTSTART:20250330T010000
END:DAYLIGHT
BEGIN:STANDARD
TZOFFSETFROM:+0200
TZOFFSETTO:+0100
TZNAME:CET
DTSTART:20251026T010000
END:STANDARD
BEGIN:DAYLIGHT
TZOFFSETFROM:+0100
TZOFFSETTO:+0200
TZNAME:CEST
DTSTART:20260329T010000
END:DAYLIGHT
BEGIN:STANDARD
TZOFFSETFROM:+0200
TZOFFSETTO:+0100
TZNAME:CET
DTSTART:20261025T010000
END:STANDARD
END:VTIMEZONE
BEGIN:VEVENT
DTSTART;TZID=Europe/Berlin:20250503T200000
DTEND;TZID=Europe/Berlin:20250504T033000
DTSTAMP:20260425T182710
CREATED:20250429T065812Z
LAST-MODIFIED:20250429T070001Z
UID:1653-1746302400-1746329400@roter-baum.berlin
SUMMARY:SKA PUNK PARTY – Das wird laut\, wild und unvergesslich!
DESCRIPTION:Eine Nacht voller Energie ⚡\, Beats 🎷 und bester Stimmung 🎉 – präsentiert von Anna. \nWann?\n📅 Samstag\, 03. Mai 2025\n⏰ Einlass: 19:00 Uhr | Beginn: 20:00 Uhr | Feierende: 03:00 Uhr \nWo?\n📍 JFE Anna Landsberger\nPrötzeler Ring 13\, 12679 Berlin \nLive auf der Bühne: \n\nKARA.BINA 🎶\nDie Impulsiven 🔥\nSKAMARLEY – Ska mit Attitüde 🎺\nDJ Das Ohr – Beats bis zum Morgengrauen 🎧\n\nTanzen bis in die frühen Morgenstunden 🕺💃\, Freunde treffen 🤝\, neue Leute kennenlernen ✨ und einfach die Musik feiern 🎶 – diese Party liefert alles\, was das Herz der Subkultur begehrt. \nEintritt auf Spendenbasis\n💸 Gib\, was du kannst – alles für die Szene!\n✊ Support your local scene! \nSpread the word & bringt eure Crew mit!\n#SkaPunkParty #BerlinSka #AnnaLandsberger #LiveMusik #PunkVibes
URL:https://roter-baum.berlin/event/ska-punk-party-das-wird-laut-wild-und-unvergesslich/
LOCATION:Anna Landsberger – internationales Jugendzentrum\, Prötzeler Ring 13\, Berlin\, 12679\, Germany
ATTACH;FMTTYPE=image/png:https://roter-baum.berlin/wp-content/uploads/2025/04/flyer-ska-punk.png
END:VEVENT
END:VCALENDAR