BEGIN:VCALENDAR
VERSION:2.0
PRODID:-//Roter Baum Berlin - ECPv6.15.20//NONSGML v1.0//EN
CALSCALE:GREGORIAN
METHOD:PUBLISH
X-WR-CALNAME:Roter Baum Berlin
X-ORIGINAL-URL:https://roter-baum.berlin
X-WR-CALDESC:Veranstaltungen für Roter Baum Berlin
REFRESH-INTERVAL;VALUE=DURATION:PT1H
X-Robots-Tag:noindex
X-PUBLISHED-TTL:PT1H
BEGIN:VTIMEZONE
TZID:Europe/Berlin
BEGIN:DAYLIGHT
TZOFFSETFROM:+0100
TZOFFSETTO:+0200
TZNAME:CEST
DTSTART:20240331T010000
END:DAYLIGHT
BEGIN:STANDARD
TZOFFSETFROM:+0200
TZOFFSETTO:+0100
TZNAME:CET
DTSTART:20241027T010000
END:STANDARD
BEGIN:DAYLIGHT
TZOFFSETFROM:+0100
TZOFFSETTO:+0200
TZNAME:CEST
DTSTART:20250330T010000
END:DAYLIGHT
BEGIN:STANDARD
TZOFFSETFROM:+0200
TZOFFSETTO:+0100
TZNAME:CET
DTSTART:20251026T010000
END:STANDARD
BEGIN:DAYLIGHT
TZOFFSETFROM:+0100
TZOFFSETTO:+0200
TZNAME:CEST
DTSTART:20260329T010000
END:DAYLIGHT
BEGIN:STANDARD
TZOFFSETFROM:+0200
TZOFFSETTO:+0100
TZNAME:CET
DTSTART:20261025T010000
END:STANDARD
END:VTIMEZONE
BEGIN:VEVENT
DTSTART;TZID=Europe/Berlin:20250527T130000
DTEND;TZID=Europe/Berlin:20250527T200000
DTSTAMP:20260425T152438
CREATED:20250519T121846Z
LAST-MODIFIED:20250519T121846Z
UID:1687-1748350800-1748376000@roter-baum.berlin
SUMMARY:BSR Kieztag
DESCRIPTION:Es ist wieder soweit! \nAm 27.05.25 setzen wir bereits den zweiten BSR-Kieztag in der Hellersdorfer Promenade um. \nZwischen 13-18 Uhr können Sie kostenfrei Ihren Sperrmüll entsorgen und das quasi direkt vor Ihrer Haustür. \nZusätzlich gibt es ein Reparaturangebot der Bürgerwerkstatt\, einen Stand an dem gebrauchte Gegenstände weitergegeben werden können sowie kleine Snacks und Getränke die zum Verweilen einladen. Am Abend laden wir Sie zu einer Wurst vom Grill ein\, während zwei Musiker live singen werden (18-20Uhr). \nFür die Anwohner:innen der Hellersdorfer Promenade gibt es die Möglichkeit tatkräftige Unterstützung zu erhalten. Dafür müssen Sie sich bei den angegebenen Kontaktdaten melden\, dann werden Ihnen ein paar fleißige Hände am 27.05.25 bei den Entsorgung helfen. \nAus dem Kieztag machen wir gemeinsam mit Ihnen ein Kiezevent!
URL:https://roter-baum.berlin/event/bsr-kieztag/
LOCATION:Quedlinburger Straße 12-16\, Quedlinburger Straße 12-16\, Berlin\, Berlin\, 12627\, Germany
ATTACH;FMTTYPE=application/pdf:https://roter-baum.berlin/wp-content/uploads/2025/05/0527_BSR-Kieztage_Plakat_QM.HP_-1.pdf
END:VEVENT
END:VCALENDAR