BEGIN:VCALENDAR
VERSION:2.0
PRODID:-//Roter Baum Berlin - ECPv6.15.20//NONSGML v1.0//EN
CALSCALE:GREGORIAN
METHOD:PUBLISH
X-ORIGINAL-URL:https://roter-baum.berlin
X-WR-CALDESC:Veranstaltungen für Roter Baum Berlin
REFRESH-INTERVAL;VALUE=DURATION:PT1H
X-Robots-Tag:noindex
X-PUBLISHED-TTL:PT1H
BEGIN:VTIMEZONE
TZID:Europe/Berlin
BEGIN:DAYLIGHT
TZOFFSETFROM:+0100
TZOFFSETTO:+0200
TZNAME:CEST
DTSTART:20240331T010000
END:DAYLIGHT
BEGIN:STANDARD
TZOFFSETFROM:+0200
TZOFFSETTO:+0100
TZNAME:CET
DTSTART:20241027T010000
END:STANDARD
BEGIN:DAYLIGHT
TZOFFSETFROM:+0100
TZOFFSETTO:+0200
TZNAME:CEST
DTSTART:20250330T010000
END:DAYLIGHT
BEGIN:STANDARD
TZOFFSETFROM:+0200
TZOFFSETTO:+0100
TZNAME:CET
DTSTART:20251026T010000
END:STANDARD
BEGIN:DAYLIGHT
TZOFFSETFROM:+0100
TZOFFSETTO:+0200
TZNAME:CEST
DTSTART:20260329T010000
END:DAYLIGHT
BEGIN:STANDARD
TZOFFSETFROM:+0200
TZOFFSETTO:+0100
TZNAME:CET
DTSTART:20261025T010000
END:STANDARD
END:VTIMEZONE
BEGIN:VEVENT
DTSTART;TZID=Europe/Berlin:20250614T140000
DTEND;TZID=Europe/Berlin:20250614T180000
DTSTAMP:20260425T193341
CREATED:20250612T084616Z
LAST-MODIFIED:20250612T084616Z
UID:1775-1749909600-1749924000@roter-baum.berlin
SUMMARY:Familienfest in Reinickendorf Nord – ein Fest für Groß und Klein
DESCRIPTION:In Zusammenarbeit mit der Kirchengemeinde Alt-Wittenau und dem Träger „Roter Baum Berlin“ richtet das Bezirksamt Reinickendorf am 14.06.2025 das 17. Familienfest Nord aus. Auf der Dorfaue in Alt-Wittenau stellen sich von 14 bis 18 Uhr viele freie Träger der Kinder- und Jugendhilfe sowie Sportvereine\, Kitas und Schulen des Bezirks vor. An zahlreichen bunten Ständen zeigt der Fuchsbezirk\, was er für Familien zu bieten hat. Essen und Trinken können die Besucherinnen und Besucher kostengünstig vor Ort erwerben. Der Eintritt zum Fest ist kostenfrei. \nAuch in diesem Jahr bietet das Familienfest Nord ein Programm für alle Generationen. Für die Kleinsten wird es wieder die Spielrallye geben\, bei der Kinder an den Aktionen der zahlreichen Stände Stempel sammeln und diese gegen tolle Preise am Stand des Jugendamtes eintauschen können. Ein Highlight ist neben den abwechslungsreichen Bastel- und Bewegungsangeboten die große Hüpfburg. Es wird ein Bühnenprogramm für die Familien geben\, das die wertvolle Angebotsvielfalt und Jugendarbeit im Bezirk repräsentiert. Zu sehen sind unter anderem die Bigband des Romain-Rolland-Gymnasiums und die Tanzgruppen des Centre Talma sowie die Brightly Dancers. \nFamilienstadtrat Alexander Ewers (SPD) lädt alle herzlich ein: „Ich freue mich\, dass Reinickendorf mit dem Familienfest Nord eine traditionsreiche Veranstaltung für alle Generationen etabliert hat. Die Besucherinnen und Besucher erwarten neben einem tollen Programm und vielfältigen Beratungsangeboten auch die Möglichkeit mit verschiedenen Akteuren der Region Nord unseres Bezirkes in Kontakt zu kommen. Ich wünsche allen einen schönen Familiensamstag bei hoffentlich traumhaftem Wetter.“
URL:https://roter-baum.berlin/event/familienfest-in-reinickendorf-nord-ein-fest-fuer-gross-und-klein/
LOCATION:Alt Wittenau\, Alt Wittenau 64a\, Berlin\, 13437\, Germany
ATTACH;FMTTYPE=image/jpeg:https://roter-baum.berlin/wp-content/uploads/2025/06/2046-das-familienfest-nord-ein-fest-fuer-alle-generationen.jpg
END:VEVENT
END:VCALENDAR