BEGIN:VCALENDAR
VERSION:2.0
PRODID:-//Roter Baum Berlin - ECPv6.15.20//NONSGML v1.0//EN
CALSCALE:GREGORIAN
METHOD:PUBLISH
X-WR-CALNAME:Roter Baum Berlin
X-ORIGINAL-URL:https://roter-baum.berlin
X-WR-CALDESC:Veranstaltungen für Roter Baum Berlin
REFRESH-INTERVAL;VALUE=DURATION:PT1H
X-Robots-Tag:noindex
X-PUBLISHED-TTL:PT1H
BEGIN:VTIMEZONE
TZID:Europe/Berlin
BEGIN:DAYLIGHT
TZOFFSETFROM:+0100
TZOFFSETTO:+0200
TZNAME:CEST
DTSTART:20240331T010000
END:DAYLIGHT
BEGIN:STANDARD
TZOFFSETFROM:+0200
TZOFFSETTO:+0100
TZNAME:CET
DTSTART:20241027T010000
END:STANDARD
BEGIN:DAYLIGHT
TZOFFSETFROM:+0100
TZOFFSETTO:+0200
TZNAME:CEST
DTSTART:20250330T010000
END:DAYLIGHT
BEGIN:STANDARD
TZOFFSETFROM:+0200
TZOFFSETTO:+0100
TZNAME:CET
DTSTART:20251026T010000
END:STANDARD
BEGIN:DAYLIGHT
TZOFFSETFROM:+0100
TZOFFSETTO:+0200
TZNAME:CEST
DTSTART:20260329T010000
END:DAYLIGHT
BEGIN:STANDARD
TZOFFSETFROM:+0200
TZOFFSETTO:+0100
TZNAME:CET
DTSTART:20261025T010000
END:STANDARD
END:VTIMEZONE
BEGIN:VEVENT
DTSTART;TZID=Europe/Berlin:20250621T140000
DTEND;TZID=Europe/Berlin:20250621T220000
DTSTAMP:20260425T152610
CREATED:20250616T082540Z
LAST-MODIFIED:20250616T082540Z
UID:1786-1750514400-1750543200@roter-baum.berlin
SUMMARY:Fête de la Musique an der "Anna Landsberger"
DESCRIPTION:Am Samstag\, den 21.06.2025 ist es wieder soweit: Wir möchten mit euch die „Fête de la musique“ feiern. Von 14-22 Uhr erwarten wir euch neben dem Volleyballplatz hinter der „Anna Landsberger“ im Wiesenpark. Lasst uns gemeinsam dem Sound der Hauptstadt lauschen\, zur Musik tanzen\, die Vielfalt und das Leben feiern. Der Eintritt ist gratis. Wir freuen uns auf euch!
URL:https://roter-baum.berlin/event/fete-de-la-musique-an-der-anna-landsberger/
LOCATION:Anna Landsberger – internationales Jugendzentrum\, Prötzeler Ring 13\, Berlin\, 12679\, Germany
ATTACH;FMTTYPE=image/png:https://roter-baum.berlin/wp-content/uploads/2025/06/Fete-de-la-musique.png
END:VEVENT
END:VCALENDAR