BEGIN:VCALENDAR
VERSION:2.0
PRODID:-//Roter Baum Berlin - ECPv6.15.20//NONSGML v1.0//EN
CALSCALE:GREGORIAN
METHOD:PUBLISH
X-ORIGINAL-URL:https://roter-baum.berlin
X-WR-CALDESC:Veranstaltungen für Roter Baum Berlin
REFRESH-INTERVAL;VALUE=DURATION:PT1H
X-Robots-Tag:noindex
X-PUBLISHED-TTL:PT1H
BEGIN:VTIMEZONE
TZID:Europe/Berlin
BEGIN:DAYLIGHT
TZOFFSETFROM:+0100
TZOFFSETTO:+0200
TZNAME:CEST
DTSTART:20240331T010000
END:DAYLIGHT
BEGIN:STANDARD
TZOFFSETFROM:+0200
TZOFFSETTO:+0100
TZNAME:CET
DTSTART:20241027T010000
END:STANDARD
BEGIN:DAYLIGHT
TZOFFSETFROM:+0100
TZOFFSETTO:+0200
TZNAME:CEST
DTSTART:20250330T010000
END:DAYLIGHT
BEGIN:STANDARD
TZOFFSETFROM:+0200
TZOFFSETTO:+0100
TZNAME:CET
DTSTART:20251026T010000
END:STANDARD
BEGIN:DAYLIGHT
TZOFFSETFROM:+0100
TZOFFSETTO:+0200
TZNAME:CEST
DTSTART:20260329T010000
END:DAYLIGHT
BEGIN:STANDARD
TZOFFSETFROM:+0200
TZOFFSETTO:+0100
TZNAME:CET
DTSTART:20261025T010000
END:STANDARD
END:VTIMEZONE
BEGIN:VEVENT
DTSTART;TZID=Europe/Berlin:20250627T140000
DTEND;TZID=Europe/Berlin:20250627T170000
DTSTAMP:20260425T152858
CREATED:20250627T080309Z
LAST-MODIFIED:20250627T080520Z
UID:1875-1751032800-1751043600@roter-baum.berlin
SUMMARY:Tag der offenen Lernwerkstätten
DESCRIPTION:Liebe Schulleitungen\, Kitaleitungen\, Pädagog:innen und Interessierte\,\n\nWir freuen uns sehr\, Sie zu unserem Tag der offenen Lernwerkstätten einzuladen!\n\nErleben Sie die vielfältigen Angebote unserer Lernwerkstätten in der Gartenstadt hautnah. Tauchen Sie ein in spannende Experimente\, kreative Welten\, musikalische Abenteuer und vieles mehr.\n\nAn diesem Tag stellen wir Ihnen die Kurse vor\, die Sie im nächsten Schuljahr für Ihre Schulklassen oder Kita-Gruppen buchen können. Lernen Sie unsere engagierten Werkstattleitungen kennen\, die mit Leidenschaft\, Bildung und Kultur vermitteln.\n\nWann: 27. Juni\, 14 – 17 Uhr\nStart: Behmstr. 13\, 13357 Berlin\n\nWir freuen uns auf Sie und einen inspirierenden Austausch!
URL:https://roter-baum.berlin/event/tag-der-offenen-lernwerkstaetten/
CATEGORIES:Lernwerkstätten Wedding
ATTACH;FMTTYPE=image/png:https://roter-baum.berlin/wp-content/uploads/2025/06/OffenenLWGartenstadt2.png
END:VEVENT
END:VCALENDAR