BEGIN:VCALENDAR
VERSION:2.0
PRODID:-//Roter Baum Berlin - ECPv6.15.20//NONSGML v1.0//EN
CALSCALE:GREGORIAN
METHOD:PUBLISH
X-WR-CALNAME:Roter Baum Berlin
X-ORIGINAL-URL:https://roter-baum.berlin
X-WR-CALDESC:Veranstaltungen für Roter Baum Berlin
REFRESH-INTERVAL;VALUE=DURATION:PT1H
X-Robots-Tag:noindex
X-PUBLISHED-TTL:PT1H
BEGIN:VTIMEZONE
TZID:Europe/Berlin
BEGIN:DAYLIGHT
TZOFFSETFROM:+0100
TZOFFSETTO:+0200
TZNAME:CEST
DTSTART:20240331T010000
END:DAYLIGHT
BEGIN:STANDARD
TZOFFSETFROM:+0200
TZOFFSETTO:+0100
TZNAME:CET
DTSTART:20241027T010000
END:STANDARD
BEGIN:DAYLIGHT
TZOFFSETFROM:+0100
TZOFFSETTO:+0200
TZNAME:CEST
DTSTART:20250330T010000
END:DAYLIGHT
BEGIN:STANDARD
TZOFFSETFROM:+0200
TZOFFSETTO:+0100
TZNAME:CET
DTSTART:20251026T010000
END:STANDARD
BEGIN:DAYLIGHT
TZOFFSETFROM:+0100
TZOFFSETTO:+0200
TZNAME:CEST
DTSTART:20260329T010000
END:DAYLIGHT
BEGIN:STANDARD
TZOFFSETFROM:+0200
TZOFFSETTO:+0100
TZNAME:CET
DTSTART:20261025T010000
END:STANDARD
END:VTIMEZONE
BEGIN:VEVENT
DTSTART;TZID=Europe/Berlin:20250628T150000
DTEND;TZID=Europe/Berlin:20250628T230000
DTSTAMP:20260425T182100
CREATED:20250522T073557Z
LAST-MODIFIED:20250522T073639Z
UID:1709-1751122800-1751151600@roter-baum.berlin
SUMMARY:Jugendforum Marzahn-Hellersdorf lädt zum Netzwerktreffen
DESCRIPTION:Berlin\, Marzahn-Hellersdorf. Unter dem Motto „Mitreden\, Mitgestalten\, Mitentscheiden“ lädt das Jugendforum Marzahn-Hellersdorf am Samstag\, den 28. Juni 2025\, zu einem offenen Treffen in die Jugendfreizeiteinrichtung Anna Landsberger ein. Ab 15 Uhr dreht sich alles um Austausch\, Beteiligung und neue Ideen für die Jugendarbeit im Bezirk. \nZiel der Veranstaltung ist es\, engagierte junge Menschen aus Marzahn-Hellersdorf zusammenzubringen\, um sich über laufende Projekte\, aktuelle Themen und gemeinsame Zukunftsvisionen auszutauschen. Dabei stehen Begegnung auf Augenhöhe und gemeinsames Planen im Vordergrund. \nVeranstaltungsdetails: \n📅 Samstag\, 28. Juni 2025\n📍 JFE Anna Landsberger\, Prötzeler Ring 13\, 12685 Berlin\n🕒 Beginn: 15:00 Uhr\n📧 Anmeldung & Rückfragen: jufo-mahe@roter-baum-berlin.de \nWorkshops\, Austausch – und Grillabend \nIn verschiedenen Workshops sollen konkrete Ideen entwickelt\, neue Projekte skizziert und nächste Schritte geplant werden. Egal ob es um politische Bildung\, queere Jugendarbeit\, kulturelle Projekte oder Umweltinitiativen geht – das Jugendforum bietet Raum für alle Themen\, die junge Menschen im Bezirk bewegen. Anschließend klingt der Tag entspannt mit Grill und Getränken im Innenhof aus – ein Rahmen\, der auch den informellen Austausch fördern soll. \nDas Jugendforum Marzahn-Hellersdorf\, das vom Jugendhilfeträger Roter Baum Berlin unterstützt wird\, ist eine Plattform für Jugendbeteiligung im Bezirk. Es verfolgt das Ziel\, jungen Menschen echte Mitbestimmung zu ermöglichen – jenseits von Symbolpolitik. Hier können Jugendliche eigene Ideen umsetzen\, Gelder für ihre Projekte beantragen und sich politisch einbringen. \nMitmachen erwünscht \nOrganisiert wird das Treffen von einem Team\, das eng mit lokalen Einrichtungen\, Initiativen und Aktiven zusammenarbeitet. „Wir freuen uns über alle\, die mitgestalten möchten – ob zum ersten Mal dabei oder schon länger engagiert“\, so die Veranstalter. Um die Planung zu erleichtern\, wird um eine kurze Anmeldung per E-Mail gebeten. Auch interessierte Projekte\, Initiativen und Einzelpersonen können die Einladung gerne weiterverbreiten.
URL:https://roter-baum.berlin/event/jugendforum-marzahn-hellersdorf-laedt-zum-netzwerktreffen/
LOCATION:Anna Landsberger – internationales Jugendzentrum\, Prötzeler Ring 13\, Berlin\, 12679\, Germany
CATEGORIES:Berlin aktiv,Jugendarbeit
ATTACH;FMTTYPE=image/png:https://roter-baum.berlin/wp-content/uploads/2025/05/Flyer-wennwasnichtpasst.png
END:VEVENT
END:VCALENDAR