BEGIN:VCALENDAR
VERSION:2.0
PRODID:-//Roter Baum Berlin - ECPv6.15.20//NONSGML v1.0//EN
CALSCALE:GREGORIAN
METHOD:PUBLISH
X-WR-CALNAME:Roter Baum Berlin
X-ORIGINAL-URL:https://roter-baum.berlin
X-WR-CALDESC:Veranstaltungen für Roter Baum Berlin
REFRESH-INTERVAL;VALUE=DURATION:PT1H
X-Robots-Tag:noindex
X-PUBLISHED-TTL:PT1H
BEGIN:VTIMEZONE
TZID:Europe/Berlin
BEGIN:DAYLIGHT
TZOFFSETFROM:+0100
TZOFFSETTO:+0200
TZNAME:CEST
DTSTART:20240331T010000
END:DAYLIGHT
BEGIN:STANDARD
TZOFFSETFROM:+0200
TZOFFSETTO:+0100
TZNAME:CET
DTSTART:20241027T010000
END:STANDARD
BEGIN:DAYLIGHT
TZOFFSETFROM:+0100
TZOFFSETTO:+0200
TZNAME:CEST
DTSTART:20250330T010000
END:DAYLIGHT
BEGIN:STANDARD
TZOFFSETFROM:+0200
TZOFFSETTO:+0100
TZNAME:CET
DTSTART:20251026T010000
END:STANDARD
BEGIN:DAYLIGHT
TZOFFSETFROM:+0100
TZOFFSETTO:+0200
TZNAME:CEST
DTSTART:20260329T010000
END:DAYLIGHT
BEGIN:STANDARD
TZOFFSETFROM:+0200
TZOFFSETTO:+0100
TZNAME:CET
DTSTART:20261025T010000
END:STANDARD
END:VTIMEZONE
BEGIN:VEVENT
DTSTART;TZID=Europe/Berlin:20250703T153000
DTEND;TZID=Europe/Berlin:20250703T180000
DTSTAMP:20260425T140218
CREATED:20250702T065124Z
LAST-MODIFIED:20250703T094626Z
UID:1898-1751556600-1751565600@roter-baum.berlin
SUMMARY:OPENAIR-Werkstatt „FLIEGEN“
DESCRIPTION:Wilde Bienen\, Schmetterlinge und andere fliegende Gestalten im Wedding \nDIE LERNWERKSTÄTTEN VOM ROTEN BAUM – Naturwerkstatt\,\nZauberhafte Physik\, Kunstwerkstatt Kreatives Gestalten\, Literatur – und\nTheaterwerkstatt sowie die Kümmelküche laden alle – ob klein oder groß – zu\neinem MITMACH – ANGEBOT ein.\nWir basteln\, werkeln und bauen mit euch Flugobjekte und nützliche Angebote\nfür unsere fleißigen Blütenbesucherinnen.\nAus Papier und eurer Energie entstehen bunte Flatterwesen auf der Wiese.\nAus euren Samenbällchen wachsen blühende Balkone und blumenreiche Ecken\nhier im Wedding!\nWir freuen uns auf Euch. Regina\, Klaus\, Inka\, Tuncay\, Nina +Sveva \nInfo: regina.hoefele@roter-baum.berlin \nBei großer Hitze oder Regen ziehen wir um in die Werkstätten\, eine Leckerei\nund ein Schattendach wird bereitstehen.
URL:https://roter-baum.berlin/event/openair-werkstatt-fliegen/
LOCATION:Heidebrinker Str. 19
CATEGORIES:Lernwerkstätten Wedding
ATTACH;FMTTYPE=image/png:https://roter-baum.berlin/wp-content/uploads/2025/07/unnamed.png
END:VEVENT
END:VCALENDAR