BEGIN:VCALENDAR
VERSION:2.0
PRODID:-//Roter Baum Berlin - ECPv6.15.20//NONSGML v1.0//EN
CALSCALE:GREGORIAN
METHOD:PUBLISH
X-ORIGINAL-URL:https://roter-baum.berlin
X-WR-CALDESC:Veranstaltungen für Roter Baum Berlin
REFRESH-INTERVAL;VALUE=DURATION:PT1H
X-Robots-Tag:noindex
X-PUBLISHED-TTL:PT1H
BEGIN:VTIMEZONE
TZID:Europe/Berlin
BEGIN:DAYLIGHT
TZOFFSETFROM:+0100
TZOFFSETTO:+0200
TZNAME:CEST
DTSTART:20240331T010000
END:DAYLIGHT
BEGIN:STANDARD
TZOFFSETFROM:+0200
TZOFFSETTO:+0100
TZNAME:CET
DTSTART:20241027T010000
END:STANDARD
BEGIN:DAYLIGHT
TZOFFSETFROM:+0100
TZOFFSETTO:+0200
TZNAME:CEST
DTSTART:20250330T010000
END:DAYLIGHT
BEGIN:STANDARD
TZOFFSETFROM:+0200
TZOFFSETTO:+0100
TZNAME:CET
DTSTART:20251026T010000
END:STANDARD
BEGIN:DAYLIGHT
TZOFFSETFROM:+0100
TZOFFSETTO:+0200
TZNAME:CEST
DTSTART:20260329T010000
END:DAYLIGHT
BEGIN:STANDARD
TZOFFSETFROM:+0200
TZOFFSETTO:+0100
TZNAME:CET
DTSTART:20261025T010000
END:STANDARD
END:VTIMEZONE
BEGIN:VEVENT
DTSTART;TZID=Europe/Berlin:20250718T211500
DTEND;TZID=Europe/Berlin:20250718T230000
DTSTAMP:20260425T140419
CREATED:20250715T114127Z
LAST-MODIFIED:20250715T114127Z
UID:1919-1752873300-1752879600@roter-baum.berlin
SUMMARY:DEFA Sommerkino: Insel der Schwäne
DESCRIPTION:Am Freitag 18.07. laden das Stadtteilzentrum Hellersdorfer Terrassen und der mobile Nachbarschaftstreff B.A.T.mobil zum DEFA-Sommerkino ein. In der Alten Hellersdorfer Straße 121 wird unter freiem Himmel der DDR Filmklassiker „Insel der Schwäne“ gezeigt. In dem Spielfilm\, der 1982 in Marzahn gedreht wurde\, geht es um die Abenteuer von dem 14-jährigen Stefan\, der vom Land kommt und sich an das Leben in dem riesigen Neubaugebiet gewöhnen muss. \nDie Vorführung fängt um 21.15 Uhr an\, der Eintritt sowie die Getränke sind auf Spendenbasis. Bei schlechtem Wetter wird die Vorführung im Stadtteilzentrum stattfinden.
URL:https://roter-baum.berlin/event/defa-sommerkino-insel-der-schwaene/
LOCATION:Stadtteilzentrum Hellersdorfer Terrassen\, Alte Hellersdorfer Str. 121\, Berlin\, 12629\, Germany
CATEGORIES:B.A.T.mobil
ATTACH;FMTTYPE=image/png:https://roter-baum.berlin/wp-content/uploads/2025/07/Insel-Plakat-25.png
END:VEVENT
END:VCALENDAR