BEGIN:VCALENDAR
VERSION:2.0
PRODID:-//Roter Baum Berlin - ECPv6.15.20//NONSGML v1.0//EN
CALSCALE:GREGORIAN
METHOD:PUBLISH
X-ORIGINAL-URL:https://roter-baum.berlin
X-WR-CALDESC:Veranstaltungen für Roter Baum Berlin
REFRESH-INTERVAL;VALUE=DURATION:PT1H
X-Robots-Tag:noindex
X-PUBLISHED-TTL:PT1H
BEGIN:VTIMEZONE
TZID:Europe/Berlin
BEGIN:DAYLIGHT
TZOFFSETFROM:+0100
TZOFFSETTO:+0200
TZNAME:CEST
DTSTART:20240331T010000
END:DAYLIGHT
BEGIN:STANDARD
TZOFFSETFROM:+0200
TZOFFSETTO:+0100
TZNAME:CET
DTSTART:20241027T010000
END:STANDARD
BEGIN:DAYLIGHT
TZOFFSETFROM:+0100
TZOFFSETTO:+0200
TZNAME:CEST
DTSTART:20250330T010000
END:DAYLIGHT
BEGIN:STANDARD
TZOFFSETFROM:+0200
TZOFFSETTO:+0100
TZNAME:CET
DTSTART:20251026T010000
END:STANDARD
BEGIN:DAYLIGHT
TZOFFSETFROM:+0100
TZOFFSETTO:+0200
TZNAME:CEST
DTSTART:20260329T010000
END:DAYLIGHT
BEGIN:STANDARD
TZOFFSETFROM:+0200
TZOFFSETTO:+0100
TZNAME:CET
DTSTART:20261025T010000
END:STANDARD
END:VTIMEZONE
BEGIN:VEVENT
DTSTART;TZID=Europe/Berlin:20250719T120000
DTEND;TZID=Europe/Berlin:20250719T170000
DTSTAMP:20260425T140449
CREATED:20250711T111003Z
LAST-MODIFIED:20250711T111003Z
UID:1908-1752926400-1752944400@roter-baum.berlin
SUMMARY:Sommerfest 2025 Roter Baum Berlin & BFC Meteor 06
DESCRIPTION:Sommerfest des Roter Baum Berlin und BFC Meteor 06. \nEin Fußballturnier der G-Jugend und ein kulturell-kulinarisch-künstlerisches Angebot unserer Lernwerkstätten für Kinder und Jugendliche bilden das Programm. \n  \nAngebote für Kinder und Jugendliche: \n\nLernwerkstatt Museum\nLiteratur- und Theaterwerkstatt\nLernwerkstatt Kochen – Kümmelküche\nLernwerkstatt Zauberhafte Physik\nKlingendes Museum Berlin\nRoter Baum Berlin\n\nund vieles mehr… \nFußballturnier: 10 bis 14 Uhr \nLernwerkstätten: 12 bis 17 Uhr
URL:https://roter-baum.berlin/event/sommerfest-2025-roter-baum-berlin-bfc-meteor-06/
LOCATION:Fußballgelände des BFC Meteor 06\, Ungarnstraße 65\, Berlin\, Berlin\, 13349\, Germany
ATTACH;FMTTYPE=image/jpeg:https://roter-baum.berlin/wp-content/uploads/2025/07/Meteor.jpg
END:VEVENT
END:VCALENDAR