BEGIN:VCALENDAR
VERSION:2.0
PRODID:-//Roter Baum Berlin - ECPv6.15.20//NONSGML v1.0//EN
CALSCALE:GREGORIAN
METHOD:PUBLISH
X-ORIGINAL-URL:https://roter-baum.berlin
X-WR-CALDESC:Veranstaltungen für Roter Baum Berlin
REFRESH-INTERVAL;VALUE=DURATION:PT1H
X-Robots-Tag:noindex
X-PUBLISHED-TTL:PT1H
BEGIN:VTIMEZONE
TZID:Europe/Berlin
BEGIN:DAYLIGHT
TZOFFSETFROM:+0100
TZOFFSETTO:+0200
TZNAME:CEST
DTSTART:20240331T010000
END:DAYLIGHT
BEGIN:STANDARD
TZOFFSETFROM:+0200
TZOFFSETTO:+0100
TZNAME:CET
DTSTART:20241027T010000
END:STANDARD
BEGIN:DAYLIGHT
TZOFFSETFROM:+0100
TZOFFSETTO:+0200
TZNAME:CEST
DTSTART:20250330T010000
END:DAYLIGHT
BEGIN:STANDARD
TZOFFSETFROM:+0200
TZOFFSETTO:+0100
TZNAME:CET
DTSTART:20251026T010000
END:STANDARD
BEGIN:DAYLIGHT
TZOFFSETFROM:+0100
TZOFFSETTO:+0200
TZNAME:CEST
DTSTART:20260329T010000
END:DAYLIGHT
BEGIN:STANDARD
TZOFFSETFROM:+0200
TZOFFSETTO:+0100
TZNAME:CET
DTSTART:20261025T010000
END:STANDARD
END:VTIMEZONE
BEGIN:VEVENT
DTSTART;TZID=Europe/Berlin:20250722T150000
DTEND;TZID=Europe/Berlin:20250722T170000
DTSTAMP:20260425T140422
CREATED:20250715T052947Z
LAST-MODIFIED:20250715T052947Z
UID:1915-1753196400-1753203600@roter-baum.berlin
SUMMARY:Promenadenbuffet 2025
DESCRIPTION:Beim traditionellen Kuchenwettbewerb kürt die Jury in diesem Jahr den besten Geburtstagskuchen. Ausschlaggebend sind Geschmack\, Kreativität\, Aussehen und natürlich die Umsetzung des Mottos „Geburtstagskuchen zum 20-jährigen Jubiläum“. Die drei besten Kuchen bekommen einen Preis. Alle Gäste können beim Wettbewerb mitmachen und bereits ab 14 Uhr einen selbst gebackenen und möglichst industriezuckerfreien Kuchen im Bunten Haus abgeben. \nDas erste Promenadenbuffet wurde 2005 durch das Quartiersmanagement (QM) Hellersdorfer Promenade ins Leben gerufen. Seitdem sind jeden Sommer Nachbarn und Nachbarinnen\, Initiativen und Einrichtungen eingeladen\, das Promenadenbuffet mit Kuchenbeiträgen und weiteren süßen und herzhaften Köstlichkeiten zu bereichern. Die vielfältigen Rezepte werden zum Nachkochen mitgebracht. Neben nachbarschaftlichem Austausch beim gemeinsamen Essen gibt es viele Mitmachaktionen rund um die Themen gesunde Ernährung und Bewegung. Zum Jubiläum wird es auf der festlich geschmückten Promenade in diesem Jahr auch eine kleine Ausstellung und eine musikalische Begleitung geben. \nEine Veranstaltung im Rahmen des Projekts „Die Promenade hält zusammen!“. Gefördert durch die Bundesrepublik Deutschland und das Land Berlin im Rahmen des Städtebauförderprogramms Sozialer Zusammenhalt – Zusammenleben im Quartier gemeinsam gestalten.
URL:https://roter-baum.berlin/event/promenadenbuffet-2025/
LOCATION:MGH Buntes Haus\, Hellersdorfer Promenade 14\, Berlin\, 12627\, Germany
ATTACH;FMTTYPE=image/png:https://roter-baum.berlin/wp-content/uploads/2025/07/2025-Plakat-Promenadenbuffet.png
END:VEVENT
END:VCALENDAR