BEGIN:VCALENDAR
VERSION:2.0
PRODID:-//Roter Baum Berlin - ECPv6.15.20//NONSGML v1.0//EN
CALSCALE:GREGORIAN
METHOD:PUBLISH
X-ORIGINAL-URL:https://roter-baum.berlin
X-WR-CALDESC:Veranstaltungen für Roter Baum Berlin
REFRESH-INTERVAL;VALUE=DURATION:PT1H
X-Robots-Tag:noindex
X-PUBLISHED-TTL:PT1H
BEGIN:VTIMEZONE
TZID:Europe/Berlin
BEGIN:DAYLIGHT
TZOFFSETFROM:+0100
TZOFFSETTO:+0200
TZNAME:CEST
DTSTART:20240331T010000
END:DAYLIGHT
BEGIN:STANDARD
TZOFFSETFROM:+0200
TZOFFSETTO:+0100
TZNAME:CET
DTSTART:20241027T010000
END:STANDARD
BEGIN:DAYLIGHT
TZOFFSETFROM:+0100
TZOFFSETTO:+0200
TZNAME:CEST
DTSTART:20250330T010000
END:DAYLIGHT
BEGIN:STANDARD
TZOFFSETFROM:+0200
TZOFFSETTO:+0100
TZNAME:CET
DTSTART:20251026T010000
END:STANDARD
BEGIN:DAYLIGHT
TZOFFSETFROM:+0100
TZOFFSETTO:+0200
TZNAME:CEST
DTSTART:20260329T010000
END:DAYLIGHT
BEGIN:STANDARD
TZOFFSETFROM:+0200
TZOFFSETTO:+0100
TZNAME:CET
DTSTART:20261025T010000
END:STANDARD
END:VTIMEZONE
BEGIN:VEVENT
DTSTART;TZID=Europe/Berlin:20250723T150000
DTEND;TZID=Europe/Berlin:20250723T210000
DTSTAMP:20260425T140451
CREATED:20250701T152600Z
LAST-MODIFIED:20250701T162958Z
UID:1881-1753282800-1753304400@roter-baum.berlin
SUMMARY:🎉 School’s out – Ferienauftakt auf dem Theaterplatz!
DESCRIPTION:Am 23. Juli 2025\, dem Tag der Zeugnisausgabe\, feiern wir gemeinsam mit allen Schüler:innen\, Familien und Freund:innen aus Marzahn-Hellersdorf den Start in die Sommerferien – mitten im Herzen von Hellersdorf auf dem Theaterplatz (nahe U-Bhf Louis-Lewin-Straße). \nVon 15 bis 21 Uhr verwandelt sich der Platz in eine bunte Festivalfläche mit Musik\, Action und kreativen Mitmachangeboten – kostenfrei und für alle offen! \n\n🌞 Ein Fest für die ganze Familie\nDer „Rote Baum“ Berlin e.V. lädt im Namen des Bündnisses für Kinder herzlich ein:Ob zum Toben\, Tanzen\, Staunen oder einfach zum Entspannen – dieser Tag ist der perfekte Anlass für einen Familienausflug\, um gemeinsam die Zeugnisse zu feiern! \n\n🎪 Das erwartet euch:\n\n\n🎶 Live-Musik & Bühnenshows \n\n\n🎨 Kreativ- und Bewegungsangebote von lokalen Trägern der Jugendhilfe \n\n\n🧗 Kletterfelsen & Halfpipe \n\n\n🎧 Chill-Zone mit DJ \n\n\n🍟 Snacks & kühle Drinks \n\n\n👨‍👩‍👧‍👦 Angebote für alle Altersgruppen – vom Kita-Kind bis zum Teenie \n\n\n\nDas Line-up :\n\nTanzgruppe Lichtblick\nJugendzirkus Cabuwazi – atemberaubende Artistik\nTanzgruppe Schleipfuhl-Grundschule\nDie Eroberer – knallende Drums und verzerrte Gitarren\nMukkemacher – coole Beats für Kids und Familien\nGordon Lemm Schirmherr des Bündnis für Kinder\nMinou Sunflower– gefühlvoller Indie-Pop\, Singer-Songwriterin mit Sommerfeeling\nGuterzogene Asis – clever-witziger Festivalsound aus Techno und HipHop\n\nNatürlich gibt es auch Snacks und Drinks an zahlreichen Ständen – alles zu fairen Preisen und in entspannter Atmosphäre. \nEintritt frei. Mitmachen ausdrücklich erwünscht!\nDie Veranstaltung wird durch das Jugendamt Marzahn-Hellersdorf gefördert. \nKommt vorbei – lasst uns gemeinsam den Asphalt beben und den Sommer feiern! 🌴✨
URL:https://roter-baum.berlin/event/%f0%9f%8e%89-schools-out-ferienauftakt-auf-dem-theaterplatz/
LOCATION:Theaterplatz\, Louis-Lewin-Straße 120\, Berlin\, 12627\, Germany
ATTACH;FMTTYPE=image/png:https://roter-baum.berlin/wp-content/uploads/2025/06/FINALE-03.png
END:VEVENT
END:VCALENDAR