BEGIN:VCALENDAR
VERSION:2.0
PRODID:-//Roter Baum Berlin - ECPv6.15.20//NONSGML v1.0//EN
CALSCALE:GREGORIAN
METHOD:PUBLISH
X-WR-CALNAME:Roter Baum Berlin
X-ORIGINAL-URL:https://roter-baum.berlin
X-WR-CALDESC:Veranstaltungen für Roter Baum Berlin
REFRESH-INTERVAL;VALUE=DURATION:PT1H
X-Robots-Tag:noindex
X-PUBLISHED-TTL:PT1H
BEGIN:VTIMEZONE
TZID:Europe/Berlin
BEGIN:DAYLIGHT
TZOFFSETFROM:+0100
TZOFFSETTO:+0200
TZNAME:CEST
DTSTART:20240331T010000
END:DAYLIGHT
BEGIN:STANDARD
TZOFFSETFROM:+0200
TZOFFSETTO:+0100
TZNAME:CET
DTSTART:20241027T010000
END:STANDARD
BEGIN:DAYLIGHT
TZOFFSETFROM:+0100
TZOFFSETTO:+0200
TZNAME:CEST
DTSTART:20250330T010000
END:DAYLIGHT
BEGIN:STANDARD
TZOFFSETFROM:+0200
TZOFFSETTO:+0100
TZNAME:CET
DTSTART:20251026T010000
END:STANDARD
BEGIN:DAYLIGHT
TZOFFSETFROM:+0100
TZOFFSETTO:+0200
TZNAME:CEST
DTSTART:20260329T010000
END:DAYLIGHT
BEGIN:STANDARD
TZOFFSETFROM:+0200
TZOFFSETTO:+0100
TZNAME:CET
DTSTART:20261025T010000
END:STANDARD
END:VTIMEZONE
BEGIN:VEVENT
DTSTART;TZID=Europe/Berlin:20250731T100000
DTEND;TZID=Europe/Berlin:20250804T100000
DTSTAMP:20260425T125230
CREATED:20250621T142053Z
LAST-MODIFIED:20250621T143048Z
UID:1849-1753956000-1754301600@roter-baum.berlin
SUMMARY:Sommer Camp mit Unterm Dach!
DESCRIPTION:Vom 31. Juli bis 4. August verbringen wir gemeinsam einige Tage am See und unternehmen viele lustige Aktivitäten! \nWeitere Informationen finden Sie im Flyer oder per E-Mail.
URL:https://roter-baum.berlin/event/sommer-camp-mit-unterm-dach/
LOCATION:Jugendzentrum ‚Unterm Dach‘\, Schönfließer Straße 12 A\, Berlin\, Berlin\, 13465\, Germany
CATEGORIES:Jugendarbeit
ATTACH;FMTTYPE=image/png:https://roter-baum.berlin/wp-content/uploads/2025/06/sOmmer-camp.png
ORGANIZER;CN="Jugendzentrum 'Unterm Dach'":MAILTO:jz-frohnau@roter-baum.berlin
END:VEVENT
END:VCALENDAR