BEGIN:VCALENDAR
VERSION:2.0
PRODID:-//Roter Baum Berlin - ECPv6.15.20//NONSGML v1.0//EN
CALSCALE:GREGORIAN
METHOD:PUBLISH
X-WR-CALNAME:Roter Baum Berlin
X-ORIGINAL-URL:https://roter-baum.berlin
X-WR-CALDESC:Veranstaltungen für Roter Baum Berlin
REFRESH-INTERVAL;VALUE=DURATION:PT1H
X-Robots-Tag:noindex
X-PUBLISHED-TTL:PT1H
BEGIN:VTIMEZONE
TZID:Europe/Berlin
BEGIN:DAYLIGHT
TZOFFSETFROM:+0100
TZOFFSETTO:+0200
TZNAME:CEST
DTSTART:20240331T010000
END:DAYLIGHT
BEGIN:STANDARD
TZOFFSETFROM:+0200
TZOFFSETTO:+0100
TZNAME:CET
DTSTART:20241027T010000
END:STANDARD
BEGIN:DAYLIGHT
TZOFFSETFROM:+0100
TZOFFSETTO:+0200
TZNAME:CEST
DTSTART:20250330T010000
END:DAYLIGHT
BEGIN:STANDARD
TZOFFSETFROM:+0200
TZOFFSETTO:+0100
TZNAME:CET
DTSTART:20251026T010000
END:STANDARD
BEGIN:DAYLIGHT
TZOFFSETFROM:+0100
TZOFFSETTO:+0200
TZNAME:CEST
DTSTART:20260329T010000
END:DAYLIGHT
BEGIN:STANDARD
TZOFFSETFROM:+0200
TZOFFSETTO:+0100
TZNAME:CET
DTSTART:20261025T010000
END:STANDARD
END:VTIMEZONE
BEGIN:VEVENT
DTSTART;TZID=Europe/Berlin:20250930T150000
DTEND;TZID=Europe/Berlin:20250930T180000
DTSTAMP:20260423T004448
CREATED:20250918T143738Z
LAST-MODIFIED:20250918T143906Z
UID:2139-1759244400-1759255200@roter-baum.berlin
SUMMARY:Promenadenbuffet - 20 Jahre Genusspromenade
DESCRIPTION:Am 30.09.2025 feiern wir unser 20jähriges Jubiläum des traditionellen „Promenadenbuffets“. \nWir laden Sie herzlich ein mit uns gemeinsam zu feiern und zu genießen. Zwischen 15-18 Uhr wird es vor dem MGH „Buntes Haus“ (Hellersdorfer Promenade 14\, 12627 Berlin) lecker\, bunt und lustig. Es erwarten Sie leckere Kuchenkreationen\, ein buntes Buffet\, viele Stände mit verschiedenen aktiven Angeboten und künstlerische Beiträge. \nBesuchen Sie uns mit Ihren Liebsten und bereichern Sie das Buffet mit Ihren Geheimrezepten. Ein Highlight unseres Fests ist der Kuchenwettbewerb\, an dem alle teilnehmen dürfen und sogar ein paar tolle Preise gewinnen können. \n20 Jahre Promenadenbuffet\, dass sind zwei Jahrzehnte voller runder Bäuche\, Spaß und Freude im Herzen der Hellersdorfer Promenade.
URL:https://roter-baum.berlin/event/promenadenbuffet-20-jahre-genusspromenade/
LOCATION:MGH Buntes Haus\, Hellersdorfer Promenade 14\, Berlin\, 12627\, Germany
ATTACH;FMTTYPE=application/pdf:https://roter-baum.berlin/wp-content/uploads/2025/09/2025-Plakat-Promenadenbuffet-2-1.pdf
END:VEVENT
END:VCALENDAR