BEGIN:VCALENDAR
VERSION:2.0
PRODID:-//Roter Baum Berlin - ECPv6.15.20//NONSGML v1.0//EN
CALSCALE:GREGORIAN
METHOD:PUBLISH
X-ORIGINAL-URL:https://roter-baum.berlin
X-WR-CALDESC:Veranstaltungen für Roter Baum Berlin
REFRESH-INTERVAL;VALUE=DURATION:PT1H
X-Robots-Tag:noindex
X-PUBLISHED-TTL:PT1H
BEGIN:VTIMEZONE
TZID:Europe/Berlin
BEGIN:DAYLIGHT
TZOFFSETFROM:+0100
TZOFFSETTO:+0200
TZNAME:CEST
DTSTART:20250330T010000
END:DAYLIGHT
BEGIN:STANDARD
TZOFFSETFROM:+0200
TZOFFSETTO:+0100
TZNAME:CET
DTSTART:20251026T010000
END:STANDARD
BEGIN:DAYLIGHT
TZOFFSETFROM:+0100
TZOFFSETTO:+0200
TZNAME:CEST
DTSTART:20260329T010000
END:DAYLIGHT
BEGIN:STANDARD
TZOFFSETFROM:+0200
TZOFFSETTO:+0100
TZNAME:CET
DTSTART:20261025T010000
END:STANDARD
BEGIN:DAYLIGHT
TZOFFSETFROM:+0100
TZOFFSETTO:+0200
TZNAME:CEST
DTSTART:20270328T010000
END:DAYLIGHT
BEGIN:STANDARD
TZOFFSETFROM:+0200
TZOFFSETTO:+0100
TZNAME:CET
DTSTART:20271031T010000
END:STANDARD
END:VTIMEZONE
BEGIN:VEVENT
DTSTART;TZID=Europe/Berlin:20260213T160000
DTEND;TZID=Europe/Berlin:20260213T190000
DTSTAMP:20260422T174809
CREATED:20260129T141231Z
LAST-MODIFIED:20260129T141404Z
UID:2709-1770998400-1771009200@roter-baum.berlin
SUMMARY:Eltern-Dinner
DESCRIPTION:Unser „Eltern-Dinner“ geht in dritte Runde. \nAm 13.02.2026 laden wir Familien in das MGH „Buntes Haus“ zu einem gemütlichen Beisammensein ein. \nWir verzaubern euch mit ein paar kulinarischen Überraschungen und wünschen uns von jeder Familie einen eigenen\, kleinen Beitrag für das Buffet. \nMit euch verwandelt sich unser Haus in einen warmen Ort\, mit Geschmäckern aus der ganzen Welt und runden Bäuchen. \nAm besagten Tag wird der offene Treff bis 16 Uhr geöffnet sein und anschließend begrüßen wir die Besucher:inenn\, welche sich für das „Eltern-Dinner“ angemeldet haben. Wir wollen euch zum verweilen\, austauschen und naschen einladen. \n  \nWir freuen uns auf euch!
URL:https://roter-baum.berlin/event/2709/
LOCATION:MGH Buntes Haus\, Hellersdorfer Promenade 14\, Berlin\, 12627\, Germany
ATTACH;FMTTYPE=image/png:https://roter-baum.berlin/wp-content/uploads/2026/01/Elterndinner-13.2.26-Plakat.png
END:VEVENT
END:VCALENDAR