BEGIN:VCALENDAR
VERSION:2.0
PRODID:-//Roter Baum Berlin - ECPv6.15.20//NONSGML v1.0//EN
CALSCALE:GREGORIAN
METHOD:PUBLISH
X-ORIGINAL-URL:https://roter-baum.berlin
X-WR-CALDESC:Veranstaltungen für Roter Baum Berlin
REFRESH-INTERVAL;VALUE=DURATION:PT1H
X-Robots-Tag:noindex
X-PUBLISHED-TTL:PT1H
BEGIN:VTIMEZONE
TZID:Europe/Berlin
BEGIN:DAYLIGHT
TZOFFSETFROM:+0100
TZOFFSETTO:+0200
TZNAME:CEST
DTSTART:20250330T010000
END:DAYLIGHT
BEGIN:STANDARD
TZOFFSETFROM:+0200
TZOFFSETTO:+0100
TZNAME:CET
DTSTART:20251026T010000
END:STANDARD
BEGIN:DAYLIGHT
TZOFFSETFROM:+0100
TZOFFSETTO:+0200
TZNAME:CEST
DTSTART:20260329T010000
END:DAYLIGHT
BEGIN:STANDARD
TZOFFSETFROM:+0200
TZOFFSETTO:+0100
TZNAME:CET
DTSTART:20261025T010000
END:STANDARD
BEGIN:DAYLIGHT
TZOFFSETFROM:+0100
TZOFFSETTO:+0200
TZNAME:CEST
DTSTART:20270328T010000
END:DAYLIGHT
BEGIN:STANDARD
TZOFFSETFROM:+0200
TZOFFSETTO:+0100
TZNAME:CET
DTSTART:20271031T010000
END:STANDARD
END:VTIMEZONE
BEGIN:VEVENT
DTSTART;TZID=Europe/Berlin:20260217T180000
DTEND;TZID=Europe/Berlin:20260217T210000
DTSTAMP:20260422T174754
CREATED:20260212T082842Z
LAST-MODIFIED:20260212T082842Z
UID:2742-1771351200-1771362000@roter-baum.berlin
SUMMARY:Antislawismus? Hab ich ja noch nie gehört!
DESCRIPTION:Diesen Satz hört man bei dem Thema dagegen oft. Aus diesem Grund laden wir zu einem Tresenabend ein\, um über die Diskriminierung zu sprechen\, die slawisch markierten Menschen und jenen aus den ehemaligen Sowjet-Staaten zu Teil wird. Deutsche ohne Migrationsgeschichte aus der DDR sind nicht davon betroffen. \nEuch erwarten also spannende Inputs\, leckere Blini (Eierkuchen) und ein Raum in dem ihr euch austauschen könnt! \nEingeladen sind Migras mit Post-Ost-Geschichte und Friends\, aber auch alle Interessierten\, die gerne mehr über das Thema erfahren möchten. \nWir freuen uns auf eine nette Runde mit euch und können es kaum erwarten eure Perspektiven\, aber auch Geschichten zu hören! \n+ Input\n+ Erfahrungsberichte\n+ Gemeinsamer Austausch \nEs gibt leckere Blini (Eierkuchen)! \nOrganisiert von:\n@M6Antifa
URL:https://roter-baum.berlin/event/antislawismus-hab-ich-ja-noch-nie-gehoert/
LOCATION:zentrale\, Stendaler Straße 43\, Berlin\, 12627\, Germany
ATTACH;FMTTYPE=image/jpeg:https://roter-baum.berlin/wp-content/uploads/2026/02/antislawismus.jpeg
END:VEVENT
END:VCALENDAR