BEGIN:VCALENDAR
VERSION:2.0
PRODID:-//Roter Baum Berlin - ECPv6.15.20//NONSGML v1.0//EN
CALSCALE:GREGORIAN
METHOD:PUBLISH
X-ORIGINAL-URL:https://roter-baum.berlin
X-WR-CALDESC:Veranstaltungen für Roter Baum Berlin
REFRESH-INTERVAL;VALUE=DURATION:PT1H
X-Robots-Tag:noindex
X-PUBLISHED-TTL:PT1H
BEGIN:VTIMEZONE
TZID:Europe/Berlin
BEGIN:DAYLIGHT
TZOFFSETFROM:+0100
TZOFFSETTO:+0200
TZNAME:CEST
DTSTART:20250330T010000
END:DAYLIGHT
BEGIN:STANDARD
TZOFFSETFROM:+0200
TZOFFSETTO:+0100
TZNAME:CET
DTSTART:20251026T010000
END:STANDARD
BEGIN:DAYLIGHT
TZOFFSETFROM:+0100
TZOFFSETTO:+0200
TZNAME:CEST
DTSTART:20260329T010000
END:DAYLIGHT
BEGIN:STANDARD
TZOFFSETFROM:+0200
TZOFFSETTO:+0100
TZNAME:CET
DTSTART:20261025T010000
END:STANDARD
BEGIN:DAYLIGHT
TZOFFSETFROM:+0100
TZOFFSETTO:+0200
TZNAME:CEST
DTSTART:20270328T010000
END:DAYLIGHT
BEGIN:STANDARD
TZOFFSETFROM:+0200
TZOFFSETTO:+0100
TZNAME:CET
DTSTART:20271031T010000
END:STANDARD
END:VTIMEZONE
BEGIN:VEVENT
DTSTART;TZID=Europe/Berlin:20260228T210000
DTEND;TZID=Europe/Berlin:20260228T233000
DTSTAMP:20260422T163232
CREATED:20260202T121359Z
LAST-MODIFIED:20260202T121905Z
UID:2715-1772312400-1772321400@roter-baum.berlin
SUMMARY:Konzert: WarnaRiot und Berlin Vista Social Club
DESCRIPTION:am 28.02. geht ANNAGROUND ab 21:00 Uhr in die 3. Runde 🥰 Es erwartet euch eine ❄️ Soliparty für den Jugendclub ❄️ (ab 18 Jahren) mit fettem Sound\, guter Stimmung und entspannten Vibes. Mit dabei sind RAP live von WarnaRiot und Berlin Vista Social Club sowie DJ Sets von Will Spliff und einem secret act. Es gibt sketchen\, drinks\, dancing und genug Platz zum chilln – und das alles for free. Kommt vorbei und feiert mit uns 💥🖤
URL:https://roter-baum.berlin/event/konzert-warnariot-und-berlin-vista-social-club/
LOCATION:Anna Landsberger – internationales Jugendzentrum\, Prötzeler Ring 13\, Berlin\, 12679\, Germany
ATTACH;FMTTYPE=image/jpeg:https://roter-baum.berlin/wp-content/uploads/2026/02/Poster-Konzert-260228.jpeg
END:VEVENT
END:VCALENDAR