BEGIN:VCALENDAR
VERSION:2.0
PRODID:-//Roter Baum Berlin - ECPv6.15.20//NONSGML v1.0//EN
CALSCALE:GREGORIAN
METHOD:PUBLISH
X-WR-CALNAME:Roter Baum Berlin
X-ORIGINAL-URL:https://roter-baum.berlin
X-WR-CALDESC:Veranstaltungen für Roter Baum Berlin
REFRESH-INTERVAL;VALUE=DURATION:PT1H
X-Robots-Tag:noindex
X-PUBLISHED-TTL:PT1H
BEGIN:VTIMEZONE
TZID:Europe/Berlin
BEGIN:DAYLIGHT
TZOFFSETFROM:+0100
TZOFFSETTO:+0200
TZNAME:CEST
DTSTART:20240331T010000
END:DAYLIGHT
BEGIN:STANDARD
TZOFFSETFROM:+0200
TZOFFSETTO:+0100
TZNAME:CET
DTSTART:20241027T010000
END:STANDARD
BEGIN:DAYLIGHT
TZOFFSETFROM:+0100
TZOFFSETTO:+0200
TZNAME:CEST
DTSTART:20250330T010000
END:DAYLIGHT
BEGIN:STANDARD
TZOFFSETFROM:+0200
TZOFFSETTO:+0100
TZNAME:CET
DTSTART:20251026T010000
END:STANDARD
BEGIN:DAYLIGHT
TZOFFSETFROM:+0100
TZOFFSETTO:+0200
TZNAME:CEST
DTSTART:20260329T010000
END:DAYLIGHT
BEGIN:STANDARD
TZOFFSETFROM:+0200
TZOFFSETTO:+0100
TZNAME:CET
DTSTART:20261025T010000
END:STANDARD
END:VTIMEZONE
BEGIN:VEVENT
DTSTART;TZID=Europe/Berlin:20250403T160000
DTEND;TZID=Europe/Berlin:20250403T200000
DTSTAMP:20260425T182231
CREATED:20250320T132436Z
LAST-MODIFIED:20250325T130057Z
UID:1552-1743696000-1743710400@roter-baum.berlin
SUMMARY:Verschoben: Filmnachmittag zum Thema "Menschenwürde schützen"
DESCRIPTION:Es sind wieder die Internationalen Wochen gegen Rassismus in Marzahn-Hellersdorf! \nWir laden Euch zu einem Überraschungsfilm zum Thema „Menschenwürde schützen“. Anschließend eröffnen wir ein Gespräch und setzen uns kreativ mit den Filminhalten auseinander. Es folgen Infostand und Buffet mit veganen und vegetarischen Snacks. Herzlich willkommen am Donnerstag\, 27.03.2025\, 16 – 20 Uhr in die JFE Anna Landsberger\, Prötzeler Ring 13.
URL:https://roter-baum.berlin/event/filmnachmittag-zum-thema-menschenwuerde-schuetzen/
LOCATION:Anna Landsberger – internationales Jugendzentrum\, Prötzeler Ring 13\, Berlin\, 12679\, Germany
ATTACH;FMTTYPE=image/jpeg:https://roter-baum.berlin/wp-content/uploads/2025/03/Internationale-Wochen-gegen-Rassismus-Ma-He-2025-scaled.jpg
END:VEVENT
BEGIN:VEVENT
DTSTART;TZID=Europe/Berlin:20250405T130000
DTEND;TZID=Europe/Berlin:20250405T180000
DTSTAMP:20260425T182231
CREATED:20250319T064743Z
LAST-MODIFIED:20250320T120213Z
UID:1543-1743858000-1743876000@roter-baum.berlin
SUMMARY:Anna frischen Luft
DESCRIPTION:Am 05. April 2025 lädt die Jugendfreizeiteinrichtung „Anna Landsberger“ von 13:00 bis 17:00 Uhr zu einem ganz besonderen Tag ein. Unter dem Motto „Anna frischen Luft“ erwartet alle Besucherinnen und Besucher ein buntes Programm rund um Umwelt\, Nachhaltigkeit und Gemeinschaft. \n\nDas wird geboten:\n\n\nMüllsammelaktion mit Clean Up MaHe: Gemeinsam halten wir unsere Nachbarschaft sauber und setzen ein Zeichen gegen Umweltverschmutzung. Jede helfende Hand ist willkommen!\nNeugestaltung des Gartens: Packt mit an und helft\, den Garten der Jugendfreizeiteinrichtung zu verschönern. Ob Blumen pflanzen\, Beete anlegen oder kreative Ideen einbringen – euer Einsatz zählt.\nNistkästen bauen: Werdet handwerklich aktiv und schafft neue Lebensräume für Vögel. Erfahrt zudem Wissenswertes über heimische Vogelarten und wie wichtig ihre Rolle im Ökosystem ist.\nCocktails machen mit BEEZDORF: Schaut an der mobilen Cocktailbar vorbei und zaubert euch erfrischende\, alkoholfreie Drinks. Dabei könnt ihr mit den Beezdorf-Expertinnen und -Experten ins Gespräch kommen und Tipps für nachhaltige Zutaten erhalten.\nTauschbörse & Pflanzen to go: Bringt Dinge mit\, die ihr nicht mehr benötigt\, und stöbert nach neuen Schätzen. Zusätzlich könnt ihr euch überzählige Jungpflanzen sichern – so findet jedes Pflänzchen ein liebevolles Zuhause.\nUmweltquiz: Testet euer Wissen rund um Klima\, Natur und Recycling. Auf die Gewinnerinnen und Gewinner warten kleine Überraschungen!\n\nWann und wo? \n\nDatum: 05. April 2025\nUhrzeit: 13:00 – 17:00 Uhr\nOrt: Jugendfreizeiteinrichtung „Anna Landsberger“ (Prötzeler Ring 13\, 12685 Berlin)\n\nMitmachen lohnt sich! Ob Jung oder Alt\, Groß oder Klein – alle sind herzlich eingeladen\, gemeinsam einen frühlingshaften Nachmittag zu verbringen. Entdeckt neue Ideen für einen umweltbewussten Alltag\, lernt eure Nachbarschaft kennen und genießt die frische Luft in guter Gesellschaft. \n\nKommt vorbei und setzt mit uns ein Zeichen für mehr Nachhaltigkeit in Marzahn-Hellersdorf!
URL:https://roter-baum.berlin/event/anna-frischen-luft/
LOCATION:Anna Landsberger – internationales Jugendzentrum\, Prötzeler Ring 13\, Berlin\, 12679\, Germany
ATTACH;FMTTYPE=image/png:https://roter-baum.berlin/wp-content/uploads/2025/03/anna-frischen-luft.png
END:VEVENT
BEGIN:VEVENT
DTSTART;TZID=Europe/Berlin:20250410T160000
DTEND;TZID=Europe/Berlin:20250410T200000
DTSTAMP:20260425T182231
CREATED:20250407T182336Z
LAST-MODIFIED:20250408T063005Z
UID:1626-1744300800-1744315200@roter-baum.berlin
SUMMARY:Party in der Platte
DESCRIPTION:Nachmittag voller Musik\, Kreativität und Action! 🌼🌿 \nDas mobile Kinder- und Jugendzentrum lädt euch ein zu “Party in der Platte” – mit Live-Musik von: \nJohn Lindner\, DJ Betonzahn\, Danny\, Daensen b2b Wiek (JFE Uno)  \nAußerdem gibt’s kreative Workshops: \nGraffiti\, Armbänder basteln und eine Mitmach-Küche – gestalte deinen eigenen Wrap! \nKommt vorbei\, bringt Freund*innen mit – wir freuen uns auf euch!
URL:https://roter-baum.berlin/event/party-in-der-platte/
LOCATION:Barnimplatz\, Barnimplatz\, Berlin\, Berlin\, 12689\, Germany
CATEGORIES:Jugendarbeit
ATTACH;FMTTYPE=image/jpeg:https://roter-baum.berlin/wp-content/uploads/2025/04/BAE2379E-C839-4937-AEA4-36C72835E851.jpeg
END:VEVENT
BEGIN:VEVENT
DTSTART;TZID=Europe/Berlin:20250415T123000
DTEND;TZID=Europe/Berlin:20250415T170000
DTSTAMP:20260425T182231
CREATED:20250407T082935Z
LAST-MODIFIED:20250407T091648Z
UID:1598-1744720200-1744736400@roter-baum.berlin
SUMMARY:Hoch hinaus! 🧗‍♀️🌲-  Ausflug in den Kletterpark Wuhlheide Ferienwoche 1
DESCRIPTION:🧗‍♂️ Ein sportlicher Nachmittag unter freiem Himmel \nGemeinsam besuchen wir den Kletterpark Wuhlheide und erleben Abenteuer in luftiger Höhe. Der Ausflug richtet sich an alle\, die Lust auf Bewegung\, frische Luft und Teamspaß haben. \nTreffpunkte:• 12:45 Uhr – Alte Schule Müggelheim• 13:40 Uhr – S-Bahnhof Köpenick \nRückkehr:• 16:00 Uhr – direkt am Kletterpark (für Selbstabholer)• 17:00 Uhr – Alte Schule Müggelheim \nBitte mitbringen: Bequeme Kleidung\, feste Schuhe und etwas zu trinken. \nAnmeldeformular
URL:https://roter-baum.berlin/event/hoch-hinaus-%f0%9f%a7%97%e2%99%80%ef%b8%8f%f0%9f%8c%b2-ausflug-in-den-kletterpark-wuhlheide-ferienwoche-1/
LOCATION:Alte Schule Müggelheim\, Alt-Müggelheim 22\, Berlin\, Berlin\, 12559\, Germany
ATTACH;FMTTYPE=image/jpeg:https://roter-baum.berlin/wp-content/uploads/2025/04/2.jpg
END:VEVENT
BEGIN:VEVENT
DTSTART;TZID=Europe/Berlin:20250417T130000
DTEND;TZID=Europe/Berlin:20250417T180000
DTSTAMP:20260425T182231
CREATED:20250407T084152Z
LAST-MODIFIED:20250407T091258Z
UID:1601-1744894800-1744912800@roter-baum.berlin
SUMMARY:Ausflug ins Futurium - 🔭 Ein Blick in die Welt von morgen
DESCRIPTION:Wir besuchen das Futurium – das Haus der Zukünfte. Entdecke spannende Ausstellungen zu Technik\, Wissenschaft und der Zukunft unseres Zusammenlebens. Mitmachen\, Staunen\, Ausprobieren! \nTreffpunkte:• 13:00 Uhr – Alte Schule Müggelheim• 13:30 Uhr – S-Bahnhof Köpenick \nRückkehr:• 17:20 Uhr – S-Bahnhof Köpenick• 18:00 Uhr – Alte Schule Müggelheim \nBitte mitbringen: Neugier\, bequeme Kleidung und etwas Verpflegung für unterwegs. \nAnmeldeformular
URL:https://roter-baum.berlin/event/ausflug-ins-futurium-%f0%9f%94%ad-ein-blick-in-die-welt-von-morgen/
LOCATION:Alte Schule Müggelheim\, Alt-Müggelheim 22\, Berlin\, Berlin\, 12559\, Germany
ATTACH;FMTTYPE=image/jpeg:https://roter-baum.berlin/wp-content/uploads/2025/04/2.jpg
END:VEVENT
BEGIN:VEVENT
DTSTART;TZID=Europe/Berlin:20250422T090000
DTEND;TZID=Europe/Berlin:20250422T160000
DTSTAMP:20260425T182231
CREATED:20250407T080354Z
LAST-MODIFIED:20250407T091150Z
UID:1592-1745312400-1745337600@roter-baum.berlin
SUMMARY:Clean and Spray - Ferienwoche 2
DESCRIPTION:Mach mit bei unserem Cleanup-Event und setz ein kreatives Zeichen!Gemeinsam räumen wir auf – und danach wird’s bunt: Wir gestalten zusammen ein Wandbild und bringen Farbe in die Nachbarschaft.Pack deine Freunde ein\, schnapp dir Handschuhe und sei dabei! \nWas du brauchst: Gute Laune\, Lust auf Veränderung – und wenn du hast\, gerne Handschuhe oder Müllgreifer. \nGemeinsam machen wir’s schöner. Für uns alle. 💪✨ \nAnmeldeformular
URL:https://roter-baum.berlin/event/clean-and-spray-ferienwoche-2/
LOCATION:Tennisplatz Müggelheim\, Odernheimer Str. 48\, Berlin\, Berlin\, 12559\, Germany
ATTACH;FMTTYPE=image/jpeg:https://roter-baum.berlin/wp-content/uploads/2025/04/1.jpg
END:VEVENT
BEGIN:VEVENT
DTSTART;TZID=Europe/Berlin:20250423T170000
DTEND;TZID=Europe/Berlin:20250423T200000
DTSTAMP:20260425T182231
CREATED:20250407T085439Z
LAST-MODIFIED:20250407T091116Z
UID:1603-1745427600-1745438400@roter-baum.berlin
SUMMARY:Ferienparty in der Alten Schule Müggelheim
DESCRIPTION:🎉 Feiern\, chillen\, gemeinsam den Frühling genießen \nLust auf Musik\, Snacks und gute Stimmung? Dann komm zu unserer Ferienparty in der Alten Schule Müggelheim! Ob drinnen oder draußen – wir machen es uns richtig schön und feiern entspannt zusammen in den Abend. Bring gerne deine Freund*innen mit! \n🕔 17:00–21:00 Uhr📍 Alte Schule Müggelheim🎟️ Eintritt frei \nAb 16:00 Uhr: Helfer*innentreff vor Ort – jede helfende Hand ist willkommen! \nAnmeldeformular
URL:https://roter-baum.berlin/event/ferienparty-in-der-alten-schule-mueggelheim/
LOCATION:Alte Schule Müggelheim\, Alt-Müggelheim 22\, Berlin\, Berlin\, 12559\, Germany
ATTACH;FMTTYPE=image/jpeg:https://roter-baum.berlin/wp-content/uploads/2025/04/1.jpg
END:VEVENT
BEGIN:VEVENT
DTSTART;TZID=Europe/Berlin:20250424T140000
DTEND;TZID=Europe/Berlin:20250425T100000
DTSTAMP:20260425T182231
CREATED:20250407T090856Z
LAST-MODIFIED:20250407T094942Z
UID:1605-1745503200-1745575200@roter-baum.berlin
SUMMARY:Mädchenübernachtung im Kietz-Klub-Köpenick
DESCRIPTION:📅 Donnerstag\, 24. April bis Freitag\, 25. April 2025🛏️ Eine Nacht nur für Mädels – mit Spaß\, Gesprächen & Gemeinschaft \nWir laden alle Mädchen herzlich zur Übernachtung im Kietz-Klub ein! Freut euch auf eine entspannte Zeit mit Spielen\, kreativen Aktionen\, leckerem Essen und ganz viel Raum zum Quatschen und Wohlfühlen. \nStart:• 14:00 Uhr – Alte Schule Müggelheim• 15:00 Uhr – Kietz-Klub-Köpenick (Köpenzeile 117\, 12557 Berlin) \nEnde:• Freitag\, 25.04.\, 10:00 Uhr – Kietz-Klub-Köpenick \nBitte mitbringen: Schlafsachen\, Isomatte/Luftmatratze\, Schlafsack\, Waschsachen\, wetterfeste Kleidung – und natürlich ganz viel gute Laune! \nAnmeldeformular
URL:https://roter-baum.berlin/event/maedchenuebernachtung-im-kietz-klub-koepenick/
ATTACH;FMTTYPE=image/jpeg:https://roter-baum.berlin/wp-content/uploads/2025/04/1.jpg
END:VEVENT
BEGIN:VEVENT
DTSTART;TZID=Europe/Berlin:20250430T150000
DTEND;TZID=Europe/Berlin:20250430T180000
DTSTAMP:20260425T182231
CREATED:20250410T064341Z
LAST-MODIFIED:20250410T064352Z
UID:1643-1746025200-1746036000@roter-baum.berlin
SUMMARY:Einweihung mobiles Jugendzentrum Reinickendorf-Nord
DESCRIPTION:Im grünen Norden Reinickendorfs gibt es nicht viele Orte an denen Jugendliche ihre Freizeit ungestört und ohne schulischen Leistungsdruck verbringen können. Das mobile Jugendzentrum des Trägers „Roter Baum Berlin UG“ will das ändern. Im Auftrag vom Bezirksamt Reinickendorf (Jugendamt) ist der große rote Bus ab sofort auf den Plätzen im Norden Reinickendorfs unterwegs. Von Dienstag bis Freitag ist das mobile Jugendzentrum an unterschiedlichen Orten in Frohnau\, Hermsdorf\, Waidmannslust und Lübars anzutreffen.\nAn Bord befindet sich alles was junge Menschen im Alter von 14-27 Jahren interessiert. Was noch fehlt kann im partizipativen Prozess herausgefunden\, verändert und umgesetzt werden. Jugendliche können hier vorbeikommen\, mitmachen und chillen. Wer Lust hat\, kann eigene Ideen einbringen\, bei der Namensfindung mitwirken und ein passendes Logo gestalten. Die Ausstattung und die Angebote entwickeln sich gemeinsam mit den Jugendlichen weiter.\nMobile Jugendarbeit bedeutet: Wir kommen dahin\, wo Jugendliche sich treffen – unkompliziert und ohne Anmeldung. Die Jugendlichen entscheiden\, was Ihnen wichtig ist. Wir wollen Vertrauen aufbauen und Sichtbarkeit schaffen.\nIn den Schulferien sollen darüber hinaus gemeinsame Aktivitäten und Ausflüge geplant werden. Außerdem wird sich das mobile Jugendzentrum aktiv an Veranstaltungen im Bezirk beteiligen und so als neue\, flexible Plattform für junge Menschen sichtbar werden. \nWir feiern das neue Projekt und stellen es vor. Dabei zeigen wir alles was möglich ist. Es gibt Musik\, eine mobile Küche\, Graffiti\, und Material für Sport und Spiel. Zu Gast ist auch das mobile Jugendzentrum Marzahn-Hellersdorf\, bei dem sich die Reinickendorfer:innen inspirieren lassen können\, wie ihr eigenes rollendes Jugendzentrum ausgebaut werden kann.
URL:https://roter-baum.berlin/event/einweihung-mobiles-jugendzentrum-reinickendorf-nord/
LOCATION:Fellbacher Platz\, Fellbacher Straße 30a\, Berlin\, Berlin\, 13467\, Germany
ATTACH;FMTTYPE=image/png:https://roter-baum.berlin/wp-content/uploads/2025/04/Eroeffnungsfeier-mJZ-RN.png
END:VEVENT
END:VCALENDAR