BEGIN:VCALENDAR
VERSION:2.0
PRODID:-//Roter Baum Berlin - ECPv6.15.20//NONSGML v1.0//EN
CALSCALE:GREGORIAN
METHOD:PUBLISH
X-ORIGINAL-URL:https://roter-baum.berlin
X-WR-CALDESC:Veranstaltungen für Roter Baum Berlin
REFRESH-INTERVAL;VALUE=DURATION:PT1H
X-Robots-Tag:noindex
X-PUBLISHED-TTL:PT1H
BEGIN:VTIMEZONE
TZID:Europe/Berlin
BEGIN:DAYLIGHT
TZOFFSETFROM:+0100
TZOFFSETTO:+0200
TZNAME:CEST
DTSTART:20240331T010000
END:DAYLIGHT
BEGIN:STANDARD
TZOFFSETFROM:+0200
TZOFFSETTO:+0100
TZNAME:CET
DTSTART:20241027T010000
END:STANDARD
BEGIN:DAYLIGHT
TZOFFSETFROM:+0100
TZOFFSETTO:+0200
TZNAME:CEST
DTSTART:20250330T010000
END:DAYLIGHT
BEGIN:STANDARD
TZOFFSETFROM:+0200
TZOFFSETTO:+0100
TZNAME:CET
DTSTART:20251026T010000
END:STANDARD
BEGIN:DAYLIGHT
TZOFFSETFROM:+0100
TZOFFSETTO:+0200
TZNAME:CEST
DTSTART:20260329T010000
END:DAYLIGHT
BEGIN:STANDARD
TZOFFSETFROM:+0200
TZOFFSETTO:+0100
TZNAME:CET
DTSTART:20261025T010000
END:STANDARD
END:VTIMEZONE
BEGIN:VEVENT
DTSTART;TZID=Europe/Berlin:20250503T200000
DTEND;TZID=Europe/Berlin:20250504T033000
DTSTAMP:20260425T152727
CREATED:20250429T065812Z
LAST-MODIFIED:20250429T070001Z
UID:1653-1746302400-1746329400@roter-baum.berlin
SUMMARY:SKA PUNK PARTY – Das wird laut\, wild und unvergesslich!
DESCRIPTION:Eine Nacht voller Energie ⚡\, Beats 🎷 und bester Stimmung 🎉 – präsentiert von Anna. \nWann?\n📅 Samstag\, 03. Mai 2025\n⏰ Einlass: 19:00 Uhr | Beginn: 20:00 Uhr | Feierende: 03:00 Uhr \nWo?\n📍 JFE Anna Landsberger\nPrötzeler Ring 13\, 12679 Berlin \nLive auf der Bühne: \n\nKARA.BINA 🎶\nDie Impulsiven 🔥\nSKAMARLEY – Ska mit Attitüde 🎺\nDJ Das Ohr – Beats bis zum Morgengrauen 🎧\n\nTanzen bis in die frühen Morgenstunden 🕺💃\, Freunde treffen 🤝\, neue Leute kennenlernen ✨ und einfach die Musik feiern 🎶 – diese Party liefert alles\, was das Herz der Subkultur begehrt. \nEintritt auf Spendenbasis\n💸 Gib\, was du kannst – alles für die Szene!\n✊ Support your local scene! \nSpread the word & bringt eure Crew mit!\n#SkaPunkParty #BerlinSka #AnnaLandsberger #LiveMusik #PunkVibes
URL:https://roter-baum.berlin/event/ska-punk-party-das-wird-laut-wild-und-unvergesslich/
LOCATION:Anna Landsberger – internationales Jugendzentrum\, Prötzeler Ring 13\, Berlin\, 12679\, Germany
ATTACH;FMTTYPE=image/png:https://roter-baum.berlin/wp-content/uploads/2025/04/flyer-ska-punk.png
END:VEVENT
BEGIN:VEVENT
DTSTART;TZID=Europe/Berlin:20250509T130000
DTEND;TZID=Europe/Berlin:20250509T220000
DTSTAMP:20260425T152727
CREATED:20250522T131950Z
LAST-MODIFIED:20250522T132450Z
UID:1719-1746795600-1746828000@roter-baum.berlin
SUMMARY:Eröffnungscontest im Skatepark am Beerenpfuhlgraben
DESCRIPTION:📅 Donnerstag\, 09. Mai 2025🕒 Anmeldung ab 13:00 Uhr | Contest-Start: 15:00 Uhr📍 Skatepark am Beerenpfuhlgraben (Alt-Hellersdorf 29\, 12629 Berlin) \nGemeinsam mit der SENFTE10 feiern wir von diveRcity die Eröffnung des neuen Skateparks am Beerenpfuhlgraben – und das mit einem ordentlichen Contest! \n🏁 Wettbewerbskategorien: \n\n\nBMX \n\n\nScooter \n\n\nInliner \n\n\nSkateboard \n\n\nOb Anfänger oder Fortgeschrittene – alle sind willkommen\, ihr Können auf dem Board\, dem Rad oder den Rollen zu zeigen! \n🎶 Für die passende musikalische Untermalung und die technische Umsetzung des Events sorgen wir von diveRcity. \n\nHinweis für Teilnehmende unter 18 Jahren:Bitte holt euch vorab den Anmeldebogen in der SENFTE 10 (Alt-Hellersdorf 29–31\, 12629 Berlin) oder schreibt eine E-Mail an:📧 senfte@kids-und-co.de \nKommt vorbei – zum Zuschauen\, Mitmachen oder einfach zum Abhängen. Wir freuen uns auf euch! \nVeranstalter & Partner:\ndiveRcity\, SENFTE10\, KIDS & CO\, und weitere lokale Akteure.
URL:https://roter-baum.berlin/event/eroeffnungscontest-im-skatepark-am-beerenpfuhlgraben/
LOCATION:Skatepark am Beerenpfuhlgraben\, Alt Hellersdorf 29\, Berlin\, 12629\, Germany
ATTACH;FMTTYPE=image/png:https://roter-baum.berlin/wp-content/uploads/2025/05/Eroffnungscontest_SENFTE10-12.png
END:VEVENT
BEGIN:VEVENT
DTSTART;TZID=Europe/Berlin:20250523T160000
DTEND;TZID=Europe/Berlin:20250523T200000
DTSTAMP:20260425T152727
CREATED:20250522T102624Z
LAST-MODIFIED:20250522T130900Z
UID:1714-1748016000-1748030400@roter-baum.berlin
SUMMARY:Party in der Platte – Ein Nachmittag voller Spaß!
DESCRIPTION:📅 Freitag\, 23. Mai | 🕓 16:00 – 20:00 Uhr📍 Südspitze (Heinz-Graffunder-Park)\, Marzahn\, 12681 Berlin \nDas mobile Kinder- und Jugendzentrum lädt euch herzlich zur „Party in der Platte“ ein! Freut euch auf einen bunten Nachmittag mit viel Action\, Kreativität und Musik – direkt an der Südspitze. \n🎶 Live-Musik sorgt für die richtige Stimmung\, während ihr euch in spannenden Workshops ausprobieren könnt: \n\n\n🎨 Graffiti \n\n\n📿 Armband basteln \n\n\n✂️ Kreatives Basteln \n\n\n🍽️ Küche & Kochen \n\n\nKommt vorbei\, bringt Freund*innen mit und erlebt einen unvergesslichen Tag voller Spaß und Gemeinschaft! \nEintritt frei – Mitmachen ausdrücklich erwünscht! \nVeranstaltet von: Roter Baum Berlin
URL:https://roter-baum.berlin/event/party-in-der-platte-ein-nachmittag-voller-spass/
LOCATION:Heinz-Graffunder Park\, Heinz Graffunder Park\, Berlin\, 12681\, Germany
ATTACH;FMTTYPE=image/png:https://roter-baum.berlin/wp-content/uploads/2025/05/Flyer-Plattenparty.png
END:VEVENT
BEGIN:VEVENT
DTSTART;TZID=Europe/Berlin:20250523T170000
DTEND;TZID=Europe/Berlin:20250523T200000
DTSTAMP:20260425T152727
CREATED:20250519T115333Z
LAST-MODIFIED:20250519T115333Z
UID:1671-1748019600-1748030400@roter-baum.berlin
SUMMARY:Tag der Nachbarn
DESCRIPTION:Tag der Nachbarn – Aktiv im Kiez \nWir laden euch am 23.05.25 in die Hellersdorfer Promenade zum „Tag der Nachbarn“ ein. Ganztägig gibt es verschiedenste Aktionen im Kiez. Für Groß und Klein und jegliche Altersgruppen werden Sie etwas tolles finden und den Kiez anders erleben. Am Abend bringen wir die Nachbarschaft vor dem MGH „Buntes Haus“ zusammen\, bei Speis & Trank und Gesellschaftsspielen. Von 17-20 Uhr wird in der Promenade vor dem MGH „Buntes Haus gekocht\, gequatscht\, gebrutzelt und Geselligkeit gelebt. Packen sie ihre Liebsten ein und besuchen sie uns.
URL:https://roter-baum.berlin/event/tag-der-nachbarn/
LOCATION:MGH Buntes Haus\, Hellersdorfer Promenade 14\, Berlin\, 12627\, Germany
ATTACH;FMTTYPE=image/png:https://roter-baum.berlin/wp-content/uploads/2025/05/Tag-der-nachbarn_aktuell_mit-QM.png
END:VEVENT
BEGIN:VEVENT
DTSTART;TZID=Europe/Berlin:20250525T103000
DTEND;TZID=Europe/Berlin:20250525T123000
DTSTAMP:20260425T152727
CREATED:20250502T071808Z
LAST-MODIFIED:20250510T045855Z
UID:1663-1748169000-1748176200@roter-baum.berlin
SUMMARY:Der Schlaf der Vernunft. Über Kriegsklima\, Nazis und Fakes. - Lesung mit Daniela Dahn
DESCRIPTION:Am 25. Mai 2025 bietet die Peter-Weiss-Bibliothek eine besondere Veranstaltung an: Die bekannte Autorin Daniela Dahn stellt im „Bunten Haus“ ihr neues\, außerordentlich kritisches Buch vor\, das seit seinem Erscheinen im November 2024 im ganzen Land große Beachtung findet. Der Titel „Der Schlaf der Vernunft. Über Kriegsklima\, Nazis und Fakes“ bedeutet hier die scharfe\, aber immer mit Tatsachen begründetet Kritik an den gewählten Entscheidungsträgern\, weil sie „schlafen“ und nicht hinreichend Schaden von unserem Volke abwenden. Dazu haben sie sich beim Amtsantritt jedoch verpflichtet. Sie befinden sich aber im Tiefschlaf der Vernunft. Alle bedrückenden Themen der Gegenwart – das bedrohliche Kriegsklima\, der wirtschaftliche Niedergang\, die Klimaveränderung\, die Bekämpfung der Fluchtursachen\, Ängste vor Pandemien u.a. – werden nicht ausreichend behandelt. Werden „die Mächtigen“ durch dieses Buch erweckt und zum Nachdenken gebracht? Alle von Daniela benannten Tatsachen sind ihnen ja bekannt! Aber lassen wir uns nicht beirren\, behalten wir den Kopf oben und tun wir\, was wir können.\nDaniela Dahn ist zur Diskussion bereit.
URL:https://roter-baum.berlin/event/der-schlaf-der-vernunft-ueber-kriegsklima-nazis-und-fakes-lesung-mit-daniela-dahn/
LOCATION:MGH Buntes Haus\, Hellersdorfer Promenade 14\, Berlin\, 12627\, Germany
ATTACH;FMTTYPE=image/png:https://roter-baum.berlin/wp-content/uploads/2025/05/a4_poster_dahn.png
ORGANIZER;CN="Peter-Weiss-Bibliothek":MAILTO:pwb-hellersdorf@peter-weiss-bibliothek.de
END:VEVENT
BEGIN:VEVENT
DTSTART;TZID=Europe/Berlin:20250527T130000
DTEND;TZID=Europe/Berlin:20250527T200000
DTSTAMP:20260425T152727
CREATED:20250519T121846Z
LAST-MODIFIED:20250519T121846Z
UID:1687-1748350800-1748376000@roter-baum.berlin
SUMMARY:BSR Kieztag
DESCRIPTION:Es ist wieder soweit! \nAm 27.05.25 setzen wir bereits den zweiten BSR-Kieztag in der Hellersdorfer Promenade um. \nZwischen 13-18 Uhr können Sie kostenfrei Ihren Sperrmüll entsorgen und das quasi direkt vor Ihrer Haustür. \nZusätzlich gibt es ein Reparaturangebot der Bürgerwerkstatt\, einen Stand an dem gebrauchte Gegenstände weitergegeben werden können sowie kleine Snacks und Getränke die zum Verweilen einladen. Am Abend laden wir Sie zu einer Wurst vom Grill ein\, während zwei Musiker live singen werden (18-20Uhr). \nFür die Anwohner:innen der Hellersdorfer Promenade gibt es die Möglichkeit tatkräftige Unterstützung zu erhalten. Dafür müssen Sie sich bei den angegebenen Kontaktdaten melden\, dann werden Ihnen ein paar fleißige Hände am 27.05.25 bei den Entsorgung helfen. \nAus dem Kieztag machen wir gemeinsam mit Ihnen ein Kiezevent!
URL:https://roter-baum.berlin/event/bsr-kieztag/
LOCATION:Quedlinburger Straße 12-16\, Quedlinburger Straße 12-16\, Berlin\, Berlin\, 12627\, Germany
ATTACH;FMTTYPE=application/pdf:https://roter-baum.berlin/wp-content/uploads/2025/05/0527_BSR-Kieztage_Plakat_QM.HP_-1.pdf
END:VEVENT
END:VCALENDAR