BEGIN:VCALENDAR
VERSION:2.0
PRODID:-//Roter Baum Berlin - ECPv6.15.20//NONSGML v1.0//EN
CALSCALE:GREGORIAN
METHOD:PUBLISH
X-ORIGINAL-URL:https://roter-baum.berlin
X-WR-CALDESC:Veranstaltungen für Roter Baum Berlin
REFRESH-INTERVAL;VALUE=DURATION:PT1H
X-Robots-Tag:noindex
X-PUBLISHED-TTL:PT1H
BEGIN:VTIMEZONE
TZID:Europe/Berlin
BEGIN:DAYLIGHT
TZOFFSETFROM:+0100
TZOFFSETTO:+0200
TZNAME:CEST
DTSTART:20240331T010000
END:DAYLIGHT
BEGIN:STANDARD
TZOFFSETFROM:+0200
TZOFFSETTO:+0100
TZNAME:CET
DTSTART:20241027T010000
END:STANDARD
BEGIN:DAYLIGHT
TZOFFSETFROM:+0100
TZOFFSETTO:+0200
TZNAME:CEST
DTSTART:20250330T010000
END:DAYLIGHT
BEGIN:STANDARD
TZOFFSETFROM:+0200
TZOFFSETTO:+0100
TZNAME:CET
DTSTART:20251026T010000
END:STANDARD
BEGIN:DAYLIGHT
TZOFFSETFROM:+0100
TZOFFSETTO:+0200
TZNAME:CEST
DTSTART:20260329T010000
END:DAYLIGHT
BEGIN:STANDARD
TZOFFSETFROM:+0200
TZOFFSETTO:+0100
TZNAME:CET
DTSTART:20261025T010000
END:STANDARD
END:VTIMEZONE
BEGIN:VEVENT
DTSTART;TZID=Europe/Berlin:20251116T110000
DTEND;TZID=Europe/Berlin:20251116T160000
DTSTAMP:20260422T220648
CREATED:20251106T083823Z
LAST-MODIFIED:20251106T083850Z
UID:2583-1763290800-1763308800@roter-baum.berlin
SUMMARY:Jenseits der Norm - Austausch- & Workshopreihe zu queerem Geschlechtsausdruck
DESCRIPTION:Selfportrait- Session\nWann? Sonntag\, 16. November 2025 von 11:00 – 16:00 Uhr\nWo? Hellersdorf (genauer Ort bei Anmeldung)                                                                                                                Für wen? Queere Menschen von 14 bis 100 Jahren aus Marzahn-Hellersdorf\nAnmeldung: jenseitsdernorm@zohomail.eu \nWie lebst Du Geschlecht? Wie drückst Du dich aus – jenseits gesellschaftlicher Erwartungen? Jenseits der Norm schafft einen Raum für queeren Austausch\, neue Perspektiven auf Geschlechtsausdruck und die Freiheit\, sich losgelöst von gesellschaftlichen Normen auszuprobieren. Gemeinsam erkunden wir\, was Geschlecht für jede*n von uns bedeutet – kreativ und experimentierfreudig. \nAm 16.11 wollen wir eine Selfportrait- Session machen. Dabei experimentieren wir mit unserem Geschlechtsausdruck\, indem wir uns Kleidung\, Accessoires und Make- Up zunutze machen. Daraus können in Fotosessions dann Fotos zum mitnehmen entstehen. \nBarrieren? Veranstaltung in deutscher Lautsprache – Flüsterübersetzung auf Englisch/Spanisch nach Absprache möglich. Bei weiteren Fragen zu Barrieren und Zugänglichkeit meldet Euch gerne per Mail. \nWir sind Chiara\, Hanna\, Nora und Rebe – vier queere\, nicht-binäre Personen und Frauen zwischen 23 und 44 Jahren\, die an der Alice Salomon Hochschule studieren. Wir wollen queere Räume schaffen – mitten in Hellersdorf. \nKomm vorbei\, bring Dich ein\, sei dabei! \n  \nDie Veranstaltenden behalten sich vor\, von ihrem Hausrecht Gebrauch zu machen und Personen\, die rechtsextremen Parteien oder Organisationen angehören\, der rechtsextremen Szene zuzuordnen sind oder bereits in der Vergangenheit durch rassistische\, nationalistische\, antisemitische oder sonstige menschenverachtende Äußerungen in Erscheinung getreten sind\, den Zutritt zur Veranstaltung zu verwehren oder von dieser auszuschließen. Wir wünschen uns einen Ort\, an dem gelebte Solidarität an erster Stelle steht und alle eine gute Zeit verbringen können. Deshalb dulden wir auf dieser Veranstaltung keine Form von Queer-\, Trans- und Interfeindlichkeit\, Sexismus\, Rassismus\, Antisemitismus\, Ableismus\, Klassismus oder jede andere Form von Diskriminierung oder Belästigungen sowie unautorisiertes Erstellen von Bildern\, Ton- und Videoaufnahmen.
URL:https://roter-baum.berlin/event/jenseits-der-norm-austausch-workshopreihe-zu-queerem-geschlechtsausdruck/
ATTACH;FMTTYPE=image/jpeg:https://roter-baum.berlin/wp-content/uploads/2025/11/2D0B42A6-6AE0-40B0-98DD-28EDD1FD6FAF.jpeg
END:VEVENT
BEGIN:VEVENT
DTSTART;TZID=Europe/Berlin:20251122T193000
DTEND;TZID=Europe/Berlin:20251123T013000
DTSTAMP:20260422T220648
CREATED:20251113T103747Z
LAST-MODIFIED:20251113T103753Z
UID:2626-1763839800-1763861400@roter-baum.berlin
SUMMARY:Anna presents: Herbst Sause 2025
DESCRIPTION:ANNA presents: HERBST SAUSE 2025! 🍂 \nAm 22. November 2025 verwandelt sich die JFE Anna Landsberger in Berlin wieder in die heißeste Partylocation des Herbstes!\nFreu dich auf einen Abend voller guter Vibes und bester Stimmung. \n🔥 Live on Stage:\n🎤 @b6bbo\n🎶 @skamarley_official\n🎧 DJ Betonzahn \n📍 Ort:\nJFE Anna Landsberger\nPrötzeler Ring 13\, 12679 Berlin \n⏰ Einlass: 19:30 Uhr\n🎵 Showtime: 20:00 Uhr \n💸 Eintritt: Auf Spendenbasis – gib\, was du kannst! \nKomm vorbei\, bring deine Freunde mit und feier mit uns die goldene Jahreszeit – mit Musik\, Tanz und guter Laune bis in die Nacht! 🍁✨
URL:https://roter-baum.berlin/event/anna-presents-herbst-sause-2025/
LOCATION:Anna Landsberger – internationales Jugendzentrum\, Prötzeler Ring 13\, Berlin\, 12679\, Germany
CATEGORIES:Anna Landsberger,Jugendarbeit
ATTACH;FMTTYPE=image/jpeg:https://roter-baum.berlin/wp-content/uploads/2025/11/photo_2025-11-13_11-31-31.jpg
END:VEVENT
BEGIN:VEVENT
DTSTART;TZID=Europe/Berlin:20251128T160000
DTEND;TZID=Europe/Berlin:20251128T190000
DTSTAMP:20260422T220648
CREATED:20251017T083613Z
LAST-MODIFIED:20251017T083921Z
UID:2573-1764345600-1764356400@roter-baum.berlin
SUMMARY:Solidarischer Weihnachtsmarkt Badstraßenkiez
DESCRIPTION:Am 28. November feiern wir unseren 4. solidarischen Weihnachtsmarkt im Badstraßenkiez. \nEs erwarten euch Live Musik\, ein Weihnachtschor\, Essen\, Trinken und viele Mitmachangebote für Kinder und Familien.\nEintritt und viele Angebote sind Gratis. \nFür Fragen rund um die Veranstaltung bitte unter philipp.mueller@roter-baum.berlin melden.
URL:https://roter-baum.berlin/event/solidarischer-weihnachtsmarkt-badstrassenkiez/
LOCATION:Behmstraße / Zingster Straße\, Behmstraße / Zingster Straße\, Berlin\, Berlin\, Germany
CATEGORIES:Lernwerkstätten Wedding
ATTACH;FMTTYPE=image/png:https://roter-baum.berlin/wp-content/uploads/2025/10/Berliner-Woche-1.png
END:VEVENT
BEGIN:VEVENT
DTSTART;TZID=Europe/Berlin:20251129T130000
DTEND;TZID=Europe/Berlin:20251129T190000
DTSTAMP:20260422T220648
CREATED:20251117T095630Z
LAST-MODIFIED:20251117T095630Z
UID:2630-1764421200-1764442800@roter-baum.berlin
SUMMARY:🎤 Music Studio Day! 🎧
DESCRIPTION:Am 29.11.2025 lädt das Studio SHIRO zum aufregenden Music Studio Day in die Zinsgter Ecke Bellermannstr. in Berlin Gesundbrunnen ein! \nErlebe eine energiegeladene Hip-Hop Jam-Session und hilfreiche Tutorials rund um Musikproduktion. \n\n\nWann: 29.11.2025 \n\n\nMeet & Greet: 13:00 Uhr \n\n\nSession: 15:00 – 19:00 Uhr \n\n\nEintritt: Frei und offen für alle! \n\n\nKomm vorbei\, lerne Gleichgesinnte kennen und tauche ein in die Welt der Musik!
URL:https://roter-baum.berlin/event/%f0%9f%8e%a4-music-studio-day-%f0%9f%8e%a7/
LOCATION:Zingster Str. 15\, 13357 Berlin\, Zingster Str. 15\, Berlin\, Berlin\, 13357\, Germany
CATEGORIES:Lernwerkstätten Wedding
ATTACH;FMTTYPE=image/jpeg:https://roter-baum.berlin/wp-content/uploads/2025/11/studioday25-logos.jpg
END:VEVENT
BEGIN:VEVENT
DTSTART;TZID=Europe/Berlin:20251129T160000
DTEND;TZID=Europe/Berlin:20251129T190000
DTSTAMP:20260422T220648
CREATED:20251110T135108Z
LAST-MODIFIED:20251110T135224Z
UID:2587-1764432000-1764442800@roter-baum.berlin
SUMMARY:Wintermarkt Theaterplatz
DESCRIPTION:Auch in diesem Jahr verwandeln wir den Theaterplatz wieder in einen winterlichen Festplatz und laden die Nachbarschaft herzlich ein vorbeizukommen. Vor Ort überraschen wir Sie mit einem Live-Chor\, Theateraufführungen\, weihnachtlichen Klängen und verschiedensten Ständen. Es erwarten Sie Leckereien & Snacks\, Workshops und Mitmachangebote für Menschen allen Alters. Nahe dem U-Bahnhof Louis-Lewin-Straße können Sie kostenlose Angebote nutzen\, den Geschenkesack auffüllen und mit ihren Liebsten über unseren Wintermarkt schlendern. Am 29.11.2025 kommen verschiedene freie Träger und lokale Projekte zusammen und eröffnen die Weihnachtszeit im Hellersdorfer Kiez. \nSchlüpfen Sie in Ihre wetterfeste Kleidung und besuchen Sie uns auch in diesem Jahr wieder im Herzen von Hellersdorf. \n 
URL:https://roter-baum.berlin/event/wintermarkt-theaterplatz/
LOCATION:Theaterplatz\, Louis-Lewin-Straße 120\, Berlin\, 12627\, Germany
ATTACH;FMTTYPE=application/pdf:https://roter-baum.berlin/wp-content/uploads/2025/11/Wintermarkt_Theaterplatz_2025_Plakat.pdf
END:VEVENT
END:VCALENDAR