BEGIN:VCALENDAR
VERSION:2.0
PRODID:-//Roter Baum Berlin - ECPv6.15.20//NONSGML v1.0//EN
CALSCALE:GREGORIAN
METHOD:PUBLISH
X-WR-CALNAME:Roter Baum Berlin
X-ORIGINAL-URL:https://roter-baum.berlin
X-WR-CALDESC:Veranstaltungen für Roter Baum Berlin
REFRESH-INTERVAL;VALUE=DURATION:PT1H
X-Robots-Tag:noindex
X-PUBLISHED-TTL:PT1H
BEGIN:VTIMEZONE
TZID:Europe/Berlin
BEGIN:DAYLIGHT
TZOFFSETFROM:+0100
TZOFFSETTO:+0200
TZNAME:CEST
DTSTART:20240331T010000
END:DAYLIGHT
BEGIN:STANDARD
TZOFFSETFROM:+0200
TZOFFSETTO:+0100
TZNAME:CET
DTSTART:20241027T010000
END:STANDARD
BEGIN:DAYLIGHT
TZOFFSETFROM:+0100
TZOFFSETTO:+0200
TZNAME:CEST
DTSTART:20250330T010000
END:DAYLIGHT
BEGIN:STANDARD
TZOFFSETFROM:+0200
TZOFFSETTO:+0100
TZNAME:CET
DTSTART:20251026T010000
END:STANDARD
BEGIN:DAYLIGHT
TZOFFSETFROM:+0100
TZOFFSETTO:+0200
TZNAME:CEST
DTSTART:20260329T010000
END:DAYLIGHT
BEGIN:STANDARD
TZOFFSETFROM:+0200
TZOFFSETTO:+0100
TZNAME:CET
DTSTART:20261025T010000
END:STANDARD
END:VTIMEZONE
BEGIN:VEVENT
DTSTART;TZID=Europe/Berlin:20251204T150000
DTEND;TZID=Europe/Berlin:20251204T190000
DTSTAMP:20260422T191559
CREATED:20251201T090520Z
LAST-MODIFIED:20251201T090818Z
UID:2653-1764860400-1764874800@roter-baum.berlin
SUMMARY:Hellersdorfer Adventoase vor dem Eastend
DESCRIPTION:Am Donnerstag\, dem 4. Dezember\, verwandelt sich der Bürgergarten Helle Oase und der Bereich vor der Jugendfreizeiteinrichtung Eastend in eine stimmungsvolle Adventswelt. Mit Weihnachtsmann\, Wichteln\, Stockbrot\, Live-Musik und kreativen Mitmachaktionen wird die Adventoase ein ganz besonderes Erlebnis für den Stadtteil. \n\n\nAls eine Art Ersatz für das im Sommer ausgefallene Stadtteilfest lädt die Hellersdorfer Adventoase zu einem adventlichen Nachmittag voller Begegnungen ein.\nZwischen Bürgergarten Helle Oase und der Jugendfreizeiteinrichtung Eastend entsteht ein liebevoll gestalteter Weihnachtsmarkt mit vielen kleinen Highlights für Familien\, Kinder und Nachbarinnen und Nachbarn. \nWas euch erwartet: \n\nBegegnung mit Wichteln und Weihnachtsmann\ngemütlicher Weihnachtsmarkt mit Ständen & Aktionen\nStockbrot\, Kinderpunsch\, Süßes und Herzhaftes\nkreative Bastelangebote\nTanz-Workshop\nWünschebaum für Seniorinnen und Senioren\nWunschzettel-Basteln mit der weihnachtlichen Zuckertütenfee®\nLive-Musik und viele Überraschungen\nSpiel & Spaß für Groß und Klein\n\nKommt vorbei\, genießt die Atmosphäre und stimmt euch gemeinsam mit uns auf die Vorweihnachtszeit ein.\nWir freuen uns auf euch!
URL:https://roter-baum.berlin/event/hellersdorfer-adventoase-vor-dem-eastend/
LOCATION:Eastend Berlin\, Tangermünder Straße 127\, Berlin\, Berlin\, 12627\, Germany
CATEGORIES:B.A.T.mobil,Berlin aktiv,Gemeinwesen,Hellersdorf aktiv,International,Jugendarbeit
ATTACH;FMTTYPE=image/png:https://roter-baum.berlin/wp-content/uploads/2025/12/AdventOASE-600-600-p-L-97.png
END:VEVENT
BEGIN:VEVENT
DTSTART;TZID=Europe/Berlin:20251230T180000
DTEND;TZID=Europe/Berlin:20251230T200000
DTSTAMP:20260422T191559
CREATED:20251120T151453Z
LAST-MODIFIED:20251120T151453Z
UID:2635-1767117600-1767124800@roter-baum.berlin
SUMMARY:120 Jahre Daniil Charms
DESCRIPTION:Zum 120. Geburtstag des russischen Schriftstellers **Daniil Charms** widmet sich die Literatur- und Theaterwerkstatt seinem absurden Theaterstück „Die Alte“ – ein Werk voller Groteske\, schwarzem Humor und surrealer Momente. \nMit diesem Stück betreten wir bewusst neue Bühnenwelten: Unsere Seniorinnen und Senioren lassen Charms’ schräg-komische Figuren lebendig werden und entdecken dabei den Reiz des Absurden im Alltag. \nMit: \nRenate Haarhaus\, Robert Köckritz\, Arnold Landen\, Gabriele Lederle\, Beate Golisch und Tuncay Gary \nMusik: Robert Köckritz \nLeitung: Tuncay Gary \n  \nGemeinsam feiern wir 120 Jahre Charms – mit einem Theaterabend zwischen Lachen\, Staunen und Nachdenken. \nWeitere Vorstellung \nMontag\, 2. Februar 2026\, 18 Uhr \nGalerie Salon Halit Art\, Kreuzberg
URL:https://roter-baum.berlin/event/120-jahre-daniil-charms/
LOCATION:Lernwerkstatt Literatur und Theater\, Zingster Straße 15\, Berlin\, Berlin\, 13357\, Germany
ATTACH;FMTTYPE=image/png:https://roter-baum.berlin/wp-content/uploads/2025/11/120-Jahre_20251117_155350_0000.png
END:VEVENT
END:VCALENDAR