BEGIN:VCALENDAR
VERSION:2.0
PRODID:-//Roter Baum Berlin - ECPv6.15.20//NONSGML v1.0//EN
CALSCALE:GREGORIAN
METHOD:PUBLISH
X-ORIGINAL-URL:https://roter-baum.berlin
X-WR-CALDESC:Veranstaltungen für Roter Baum Berlin
REFRESH-INTERVAL;VALUE=DURATION:PT1H
X-Robots-Tag:noindex
X-PUBLISHED-TTL:PT1H
BEGIN:VTIMEZONE
TZID:Europe/Berlin
BEGIN:DAYLIGHT
TZOFFSETFROM:+0100
TZOFFSETTO:+0200
TZNAME:CEST
DTSTART:20250330T010000
END:DAYLIGHT
BEGIN:STANDARD
TZOFFSETFROM:+0200
TZOFFSETTO:+0100
TZNAME:CET
DTSTART:20251026T010000
END:STANDARD
BEGIN:DAYLIGHT
TZOFFSETFROM:+0100
TZOFFSETTO:+0200
TZNAME:CEST
DTSTART:20260329T010000
END:DAYLIGHT
BEGIN:STANDARD
TZOFFSETFROM:+0200
TZOFFSETTO:+0100
TZNAME:CET
DTSTART:20261025T010000
END:STANDARD
BEGIN:DAYLIGHT
TZOFFSETFROM:+0100
TZOFFSETTO:+0200
TZNAME:CEST
DTSTART:20270328T010000
END:DAYLIGHT
BEGIN:STANDARD
TZOFFSETFROM:+0200
TZOFFSETTO:+0100
TZNAME:CET
DTSTART:20271031T010000
END:STANDARD
END:VTIMEZONE
BEGIN:VEVENT
DTSTART;TZID=Europe/Berlin:20260124T140000
DTEND;TZID=Europe/Berlin:20260124T180000
DTSTAMP:20260422T174809
CREATED:20260113T120249Z
LAST-MODIFIED:20260113T122535Z
UID:2682-1769263200-1769277600@roter-baum.berlin
SUMMARY:Jenseits der Norm - Zine Workshop zu "Queer Utopia"
DESCRIPTION:Wie lebst und erlebst du Geschlecht? Wie drückst du dich aus – jenseits gesellschaftlicher Normen und Erwartungen? \nJenseits der Norm schafft einen Raum für queeren Austausch\, neue Perspektiven auf Geschlechtsausdruck und die Freiheit\, sich losgelöst von gesellschaftlichen Normen auszuprobieren. Gemeinsam erkunden wir\, was Geschlecht für jede*n von uns bedeutet – kreativ und experimentierfreudig 🙂 \nBei unserem vierten und letzten Treffen am 24. Januar 2026\, 14:00–18:00\, wollen wir an Queeren Utopien arbeiten. Wieso braucht es queere Utopien – wie können diese aussehen – wie fühlen sie sich an? Dazu wollen wir gemeinsam ein Zine rund um Queer Utopia machen. Ihr könnt Collagen gestalten\, Gedichte und Texte schreiben oder einfach zu Farbe und Pinsel greifen. Den Nachmittag wollen wir anschließend mit Pizza ausklingen lassen und dabei auch nochmal über Vernetzungsmöglichkeiten und solidarische Organisation sprechen. Schnappt euch eure Freund*innen und kommt vorbei\, um neue Leute kennenzulernen\, zu schnacken und einen entspannten Nachmittag zu genießen. (P.S.: Wir werden Bastelmaterialien bereitstellen\, ihr könnt aber auch gerne eure eigenen Sachen mitbringen.) Wir freuen uns auf euch! \nBarrieren? Veranstaltung in deutscher Lautsprache – Flüsterübersetzung auf Englisch/Spanisch nach Absprache möglich. Bei weiteren Fragen zu Barrieren und Zugänglichkeit meldet euch gerne per Mail. \n  \n 
URL:https://roter-baum.berlin/event/jenseits-dere-norm-zine-workshop-zu-queer-utopia/
CATEGORIES:Gemeinwesen,Jugendarbeit
ATTACH;FMTTYPE=image/jpeg:https://roter-baum.berlin/wp-content/uploads/2026/01/4.-Veranstaltung-Sharepic-deutsch-1.jpg
END:VEVENT
BEGIN:VEVENT
DTSTART;TZID=Europe/Berlin:20260125T150000
DTEND;TZID=Europe/Berlin:20260125T170000
DTSTAMP:20260422T174809
CREATED:20260114T101235Z
LAST-MODIFIED:20260114T101235Z
UID:2698-1769353200-1769360400@roter-baum.berlin
SUMMARY:FairNachten -fair teilen & süß genießen
DESCRIPTION:Im Rahmen der Projekte „die Promenade hält zusammen“ und „MGH Buntes Haus“ ist es uns wichtig Initiativen aus dem Kiez zu fördern. \nUnsere Held:innen der Marzahn-Hellersdorfer Foodsharing-Gruppe sind täglich im EInsatz und besonders aktiv. Fast wöchentlich erhalten wir Lebensmittelspenden und FAIRteilen diese weiter\, gemeinsam sind wir aktiv gegen Lebensmittelverschwendung und setzen uns für die Verteilung geretteter Produkte ein. \nDaher möchten wir auf darauf aufmerksam machen\, dass am 25.01.2026 eine tolle Aktion stattfindet. \nAuf dem Elsterwerdaer Platz wird es ab 15 Uhr eine Verteilungsaktion für gerettete Süßígkeiten\, Naschereien und Leckereien geben. Wir laden Sie ein vorbeizukommen und ihren weihnachtlichen Vorrat etwas aufzufüllen. Denn statt in der Mülltonne\, können diese kostbaren Lebensmittel auch in Ihren Taschen landen und immernoch verbraucht werden. \nWenn Sie Interesse entwickeln selber in diesem Ehrenamt aktiv zu werden\, so sprechen Sie die Foodsharing-Aktivist:innen vor Ort direkt an und informieren sie sich.
URL:https://roter-baum.berlin/event/fairnachten-fair-teilen-suess-geniessen/
LOCATION:Elsterwerdaer Platz\, Elsterwerdaer Platz\, Marzahn-Hellesdorf\, Berlin\, 12683 Berlin\, Germany
ATTACH;FMTTYPE=image/jpeg:https://roter-baum.berlin/wp-content/uploads/2026/01/Design-ohne-Titel-2.jpg
END:VEVENT
END:VCALENDAR